{"text_format":"1","workbook":"xlsx","n_sheets":3,"sheets":["Instructions","Money Manager","Import Players"],"not_rendered":{"charts":0,"images":14,"macros":1,"external_links":0,"defined_names":1,"comments":0,"pivot_tables":0},"unopened":[],"bounds":{"document_bytes":16777216,"sheet_cells":100000,"rows_first":2000,"rows_last":500,"rows_between":2000,"halvings":0,"cell_chars":16384,"cell_head_chars":4096},"cells_cut":0,"cells_raw":0,"read":"whole","date_system":"1900"}

{"sheet":"Instructions","index":0,"n_rows":143,"n_cols":6,"rows_kept":143,"cut":false,"hidden":false,"merged":[[115,0,115,18],[142,0,142,18],[143,0,143,18],[116,0,116,18]]}
[null,null,null,null,null,"Using Legacy Wizard to Import CSV into Existing Sheet"]
[]
[]
[]
[]
[]
[]
[]
[]
[]
[]
[]
[]
[]
[]
[]
[]
[]
[]
[]
[]
[]
[]
[]
[]
[]
[]
[]
[]
[]
[]
[]
[]
[]
[]
[]
[]
[]
[]
[]
[]
[]
[]
[]
[]
[]
[]
[]
[]
[]
[]
[]
[]
[]
[]
[]
[]
[]
[]
[]
[]
[]
[]
[]
[]
[]
[]
[]
[]
[]
[]
[]
[]
[]
[]
[]
[]
[]
[]
[]
[]
[]
[]
[]
[]
[]
[]
[]
[]
[]
[]
[]
[]
[]
[]
[]
[]
[]
[]
[]
[]
[]
[]
[]
[]
[]
[]
[]
[]
[]
[]
[]
[]
[]
[]
["To get new (update) players --- Data tab - Refresh All - browse to your signup2023.csv file"]
["NOTE: You must import players in the Pool Manager first"]
[]
[]
[]
[]
[]
[]
[]
[]
[]
[]
[]
[]
[]
[]
[]
[]
[]
[]
[]
[]
[]
[]
[]
[]
[]
["To update a players paid status move owed from column K into relevant Paid column"]

{"sheet":"Money Manager","index":1,"n_rows":103,"n_cols":26,"rows_kept":103,"cut":false,"hidden":false,"merged":[]}
[{"$f":"'Import Players'!A2","v":"Real Name"},{"$f":"'Import Players'!B2","v":"Playing Name"},{"$f":"'Import Players'!C2","v":"Password"},{"$f":"'Import Players'!D2","v":"EMail"},{"$f":"'Import Players'!E2","v":"Phone #"},{"$f":"'Import Players'!F2","v":"Referred By"},"Paid by Check Postal Address","Paid Venmo","Paid Zelle","Paid PayPal","Fees Owed",{"$f":"'Import Players'!I2","v":"Automatic"},{"$f":"'Import Players'!J2","v":"Season"},{"$f":"'Import Players'!K2","v":"Weekly"},{"$f":"'Import Players'!L2","v":"Survivor"},{"$f":"'Import Players'!M2","v":"Survivor II"},{"$f":"'Import Players'!N2","v":"Margin"},{"$f":"'Import Players'!O2","v":"High 5"},{"$f":"'Import Players'!P2","v":"Conference"},{"$f":"'Import Players'!Q2","v":"Digit"},{"$f":"'Import Players'!R2","v":"Bracket"},{"$f":"'Import Players'!S2","v":"Low Position(s)"},{"$f":"'Import Players'!T2","v":"Parlay"},{"$f":"'Import Players'!U2","v":"Target"},{"$f":"'Import Players'!V2","v":" Custom 3"},{"$f":"'Import Players'!W2","v":"Date Signed Up"}]
[{"$f":"'Import Players'!A3","v":0},{"$f":"'Import Players'!B3","v":0},{"$f":"'Import Players'!C3","v":0},{"$f":"'Import Players'!D3","v":0},{"$f":"'Import Players'!E3","v":0},{"$f":"'Import Players'!F3","v":0},{"$f":"'Import Players'!G3","v":0},null,null,null,{"$f":"'Import Players'!H3","v":0},{"$f":"'Import Players'!I3","v":0},{"$f":"'Import Players'!J3","v":0},{"$f":"'Import Players'!K3","v":0},{"$f":"'Import Players'!L3","v":0},{"$f":"'Import Players'!M3","v":0},{"$f":"'Import Players'!N3","v":0},{"$f":"'Import Players'!O3","v":0},{"$f":"'Import Players'!P3","v":0},{"$f":"'Import Players'!Q3","v":0},{"$f":"'Import Players'!R3","v":0},{"$f":"'Import Players'!S3","v":0},{"$f":"'Import Players'!T3","v":0},{"$f":"'Import Players'!U3","v":0},{"$f":"'Import Players'!V3","v":0},{"$f":"'Import Players'!W3","v":0}]
[{"$f":"'Import Players'!A4","v":0},{"$f":"'Import Players'!B4","v":0},{"$f":"'Import Players'!C4","v":0},{"$f":"'Import Players'!D4","v":0},{"$f":"'Import Players'!E4","v":0},{"$f":"'Import Players'!F4","v":0},{"$f":"'Import Players'!G4","v":0},null,null,null,{"$f":"'Import Players'!H4","v":0},{"$f":"'Import Players'!I4","v":0},{"$f":"'Import Players'!J4","v":0},{"$f":"'Import Players'!K4","v":0},{"$f":"'Import Players'!L4","v":0},{"$f":"'Import Players'!M4","v":0},{"$f":"'Import Players'!N4","v":0},{"$f":"'Import Players'!O4","v":0},{"$f":"'Import Players'!P4","v":0},{"$f":"'Import Players'!Q4","v":0},{"$f":"'Import Players'!R4","v":0},{"$f":"'Import Players'!S4","v":0},{"$f":"'Import Players'!T4","v":0},{"$f":"'Import Players'!U4","v":0},{"$f":"'Import Players'!V4","v":0},{"$f":"'Import Players'!W4","v":0}]
[{"$f":"'Import Players'!A5","v":0},{"$f":"'Import Players'!B5","v":0},{"$f":"'Import Players'!C5","v":0},{"$f":"'Import Players'!D5","v":0},{"$f":"'Import Players'!E5","v":0},{"$f":"'Import Players'!F5","v":0},{"$f":"'Import Players'!G5","v":0},null,null,null,{"$f":"'Import Players'!H5","v":0},{"$f":"'Import Players'!I5","v":0},{"$f":"'Import Players'!J5","v":0},{"$f":"'Import Players'!K5","v":0},{"$f":"'Import Players'!L5","v":0},{"$f":"'Import Players'!M5","v":0},{"$f":"'Import Players'!N5","v":0},{"$f":"'Import Players'!O5","v":0},{"$f":"'Import Players'!P5","v":0},{"$f":"'Import Players'!Q5","v":0},{"$f":"'Import Players'!R5","v":0},{"$f":"'Import Players'!S5","v":0},{"$f":"'Import Players'!T5","v":0},{"$f":"'Import Players'!U5","v":0},{"$f":"'Import Players'!V5","v":0},{"$f":"'Import Players'!W5","v":0}]
[{"$f":"'Import Players'!A6","v":0},{"$f":"'Import Players'!B6","v":0},{"$f":"'Import Players'!C6","v":0},{"$f":"'Import Players'!D6","v":0},{"$f":"'Import Players'!E6","v":0},{"$f":"'Import Players'!F6","v":0},{"$f":"'Import Players'!G6","v":0},null,null,null,{"$f":"'Import Players'!H6","v":0},{"$f":"'Import Players'!I6","v":0},{"$f":"'Import Players'!J6","v":0},{"$f":"'Import Players'!K6","v":0},{"$f":"'Import Players'!L6","v":0},{"$f":"'Import Players'!M6","v":0},{"$f":"'Import Players'!N6","v":0},{"$f":"'Import Players'!O6","v":0},{"$f":"'Import Players'!P6","v":0},{"$f":"'Import Players'!Q6","v":0},{"$f":"'Import Players'!R6","v":0},{"$f":"'Import Players'!S6","v":0},{"$f":"'Import Players'!T6","v":0},{"$f":"'Import Players'!U6","v":0},{"$f":"'Import Players'!V6","v":0},{"$f":"'Import Players'!W6","v":0}]
[{"$f":"'Import Players'!A7","v":0},{"$f":"'Import Players'!B7","v":0},{"$f":"'Import Players'!C7","v":0},{"$f":"'Import Players'!D7","v":0},{"$f":"'Import Players'!E7","v":0},{"$f":"'Import Players'!F7","v":0},{"$f":"'Import Players'!G7","v":0},null,null,null,{"$f":"'Import Players'!H7","v":0},{"$f":"'Import Players'!I7","v":0},{"$f":"'Import Players'!J7","v":0},{"$f":"'Import Players'!K7","v":0},{"$f":"'Import Players'!L7","v":0},{"$f":"'Import Players'!M7","v":0},{"$f":"'Import Players'!N7","v":0},{"$f":"'Import Players'!O7","v":0},{"$f":"'Import Players'!P7","v":0},{"$f":"'Import Players'!Q7","v":0},{"$f":"'Import Players'!R7","v":0},{"$f":"'Import Players'!S7","v":0},{"$f":"'Import Players'!T7","v":0},{"$f":"'Import Players'!U7","v":0},{"$f":"'Import Players'!V7","v":0},{"$f":"'Import Players'!W7","v":0}]
[{"$f":"'Import Players'!A8","v":0},{"$f":"'Import Players'!B8","v":0},{"$f":"'Import Players'!C8","v":0},{"$f":"'Import Players'!D8","v":0},{"$f":"'Import Players'!E8","v":0},{"$f":"'Import Players'!F8","v":0},{"$f":"'Import Players'!G8","v":0},null,null,null,{"$f":"'Import Players'!H8","v":0},{"$f":"'Import Players'!I8","v":0},{"$f":"'Import Players'!J8","v":0},{"$f":"'Import Players'!K8","v":0},{"$f":"'Import Players'!L8","v":0},{"$f":"'Import Players'!M8","v":0},{"$f":"'Import Players'!N8","v":0},{"$f":"'Import Players'!O8","v":0},{"$f":"'Import Players'!P8","v":0},{"$f":"'Import Players'!Q8","v":0},{"$f":"'Import Players'!R8","v":0},{"$f":"'Import Players'!S8","v":0},{"$f":"'Import Players'!T8","v":0},{"$f":"'Import Players'!U8","v":0},{"$f":"'Import Players'!V8","v":0},{"$f":"'Import Players'!W8","v":0}]
[{"$f":"'Import Players'!A9","v":0},{"$f":"'Import Players'!B9","v":0},{"$f":"'Import Players'!C9","v":0},{"$f":"'Import Players'!D9","v":0},{"$f":"'Import Players'!E9","v":0},{"$f":"'Import Players'!F9","v":0},{"$f":"'Import Players'!G9","v":0},null,null,null,{"$f":"'Import Players'!H9","v":0},{"$f":"'Import Players'!I9","v":0},{"$f":"'Import Players'!J9","v":0},{"$f":"'Import Players'!K9","v":0},{"$f":"'Import Players'!L9","v":0},{"$f":"'Import Players'!M9","v":0},{"$f":"'Import Players'!N9","v":0},{"$f":"'Import Players'!O9","v":0},{"$f":"'Import Players'!P9","v":0},{"$f":"'Import Players'!Q9","v":0},{"$f":"'Import Players'!R9","v":0},{"$f":"'Import Players'!S9","v":0},{"$f":"'Import Players'!T9","v":0},{"$f":"'Import Players'!U9","v":0},{"$f":"'Import Players'!V9","v":0},{"$f":"'Import Players'!W9","v":0}]
[{"$f":"'Import Players'!A10","v":0},{"$f":"'Import Players'!B10","v":0},{"$f":"'Import Players'!C10","v":0},{"$f":"'Import Players'!D10","v":0},{"$f":"'Import Players'!E10","v":0},{"$f":"'Import Players'!F10","v":0},{"$f":"'Import Players'!G10","v":0},null,null,null,{"$f":"'Import Players'!H10","v":0},{"$f":"'Import Players'!I10","v":0},{"$f":"'Import Players'!J10","v":0},{"$f":"'Import Players'!K10","v":0},{"$f":"'Import Players'!L10","v":0},{"$f":"'Import Players'!M10","v":0},{"$f":"'Import Players'!N10","v":0},{"$f":"'Import Players'!O10","v":0},{"$f":"'Import Players'!P10","v":0},{"$f":"'Import Players'!Q10","v":0},{"$f":"'Import Players'!R10","v":0},{"$f":"'Import Players'!S10","v":0},{"$f":"'Import Players'!T10","v":0},{"$f":"'Import Players'!U10","v":0},{"$f":"'Import Players'!V10","v":0},{"$f":"'Import Players'!W10","v":0}]
[{"$f":"'Import Players'!A11","v":0},{"$f":"'Import Players'!B11","v":0},{"$f":"'Import Players'!C11","v":0},{"$f":"'Import Players'!D11","v":0},{"$f":"'Import Players'!E11","v":0},{"$f":"'Import Players'!F11","v":0},{"$f":"'Import Players'!G11","v":0},null,null,null,{"$f":"'Import Players'!H11","v":0},{"$f":"'Import Players'!I11","v":0},{"$f":"'Import Players'!J11","v":0},{"$f":"'Import Players'!K11","v":0},{"$f":"'Import Players'!L11","v":0},{"$f":"'Import Players'!M11","v":0},{"$f":"'Import Players'!N11","v":0},{"$f":"'Import Players'!O11","v":0},{"$f":"'Import Players'!P11","v":0},{"$f":"'Import Players'!Q11","v":0},{"$f":"'Import Players'!R11","v":0},{"$f":"'Import Players'!S11","v":0},{"$f":"'Import Players'!T11","v":0},{"$f":"'Import Players'!U11","v":0},{"$f":"'Import Players'!V11","v":0},{"$f":"'Import Players'!W11","v":0}]
[{"$f":"'Import Players'!A12","v":0},{"$f":"'Import Players'!B12","v":0},{"$f":"'Import Players'!C12","v":0},{"$f":"'Import Players'!D12","v":0},{"$f":"'Import Players'!E12","v":0},{"$f":"'Import Players'!F12","v":0},{"$f":"'Import Players'!G12","v":0},null,null,null,{"$f":"'Import Players'!H12","v":0},{"$f":"'Import Players'!I12","v":0},{"$f":"'Import Players'!J12","v":0},{"$f":"'Import Players'!K12","v":0},{"$f":"'Import Players'!L12","v":0},{"$f":"'Import Players'!M12","v":0},{"$f":"'Import Players'!N12","v":0},{"$f":"'Import Players'!O12","v":0},{"$f":"'Import Players'!P12","v":0},{"$f":"'Import Players'!Q12","v":0},{"$f":"'Import Players'!R12","v":0},{"$f":"'Import Players'!S12","v":0},{"$f":"'Import Players'!T12","v":0},{"$f":"'Import Players'!U12","v":0},{"$f":"'Import Players'!V12","v":0},{"$f":"'Import Players'!W12","v":0}]
[{"$f":"'Import Players'!A13","v":0},{"$f":"'Import Players'!B13","v":0},{"$f":"'Import Players'!C13","v":0},{"$f":"'Import Players'!D13","v":0},{"$f":"'Import Players'!E13","v":0},{"$f":"'Import Players'!F13","v":0},{"$f":"'Import Players'!G13","v":0},null,null,null,{"$f":"'Import Players'!H13","v":0},{"$f":"'Import Players'!I13","v":0},{"$f":"'Import Players'!J13","v":0},{"$f":"'Import Players'!K13","v":0},{"$f":"'Import Players'!L13","v":0},{"$f":"'Import Players'!M13","v":0},{"$f":"'Import Players'!N13","v":0},{"$f":"'Import Players'!O13","v":0},{"$f":"'Import Players'!P13","v":0},{"$f":"'Import Players'!Q13","v":0},{"$f":"'Import Players'!R13","v":0},{"$f":"'Import Players'!S13","v":0},{"$f":"'Import Players'!T13","v":0},{"$f":"'Import Players'!U13","v":0},{"$f":"'Import Players'!V13","v":0},{"$f":"'Import Players'!W13","v":0}]
[{"$f":"'Import Players'!A14","v":0},{"$f":"'Import Players'!B14","v":0},{"$f":"'Import Players'!C14","v":0},{"$f":"'Import Players'!D14","v":0},{"$f":"'Import Players'!E14","v":0},{"$f":"'Import Players'!F14","v":0},{"$f":"'Import Players'!G14","v":0},null,null,null,{"$f":"'Import Players'!H14","v":0},{"$f":"'Import Players'!I14","v":0},{"$f":"'Import Players'!J14","v":0},{"$f":"'Import Players'!K14","v":0},{"$f":"'Import Players'!L14","v":0},{"$f":"'Import Players'!M14","v":0},{"$f":"'Import Players'!N14","v":0},{"$f":"'Import Players'!O14","v":0},{"$f":"'Import Players'!P14","v":0},{"$f":"'Import Players'!Q14","v":0},{"$f":"'Import Players'!R14","v":0},{"$f":"'Import Players'!S14","v":0},{"$f":"'Import Players'!T14","v":0},{"$f":"'Import Players'!U14","v":0},{"$f":"'Import Players'!V14","v":0},{"$f":"'Import Players'!W14","v":0}]
[{"$f":"'Import Players'!A15","v":0},{"$f":"'Import Players'!B15","v":0},{"$f":"'Import Players'!C15","v":0},{"$f":"'Import Players'!D15","v":0},{"$f":"'Import Players'!E15","v":0},{"$f":"'Import Players'!F15","v":0},{"$f":"'Import Players'!G15","v":0},null,null,null,{"$f":"'Import Players'!H15","v":0},{"$f":"'Import Players'!I15","v":0},{"$f":"'Import Players'!J15","v":0},{"$f":"'Import Players'!K15","v":0},{"$f":"'Import Players'!L15","v":0},{"$f":"'Import Players'!M15","v":0},{"$f":"'Import Players'!N15","v":0},{"$f":"'Import Players'!O15","v":0},{"$f":"'Import Players'!P15","v":0},{"$f":"'Import Players'!Q15","v":0},{"$f":"'Import Players'!R15","v":0},{"$f":"'Import Players'!S15","v":0},{"$f":"'Import Players'!T15","v":0},{"$f":"'Import Players'!U15","v":0},{"$f":"'Import Players'!V15","v":0},{"$f":"'Import Players'!W15","v":0}]
[{"$f":"'Import Players'!A16","v":0},{"$f":"'Import Players'!B16","v":0},{"$f":"'Import Players'!C16","v":0},{"$f":"'Import Players'!D16","v":0},{"$f":"'Import Players'!E16","v":0},{"$f":"'Import Players'!F16","v":0},{"$f":"'Import Players'!G16","v":0},null,null,null,{"$f":"'Import Players'!H16","v":0},{"$f":"'Import Players'!I16","v":0},{"$f":"'Import Players'!J16","v":0},{"$f":"'Import Players'!K16","v":0},{"$f":"'Import Players'!L16","v":0},{"$f":"'Import Players'!M16","v":0},{"$f":"'Import Players'!N16","v":0},{"$f":"'Import Players'!O16","v":0},{"$f":"'Import Players'!P16","v":0},{"$f":"'Import Players'!Q16","v":0},{"$f":"'Import Players'!R16","v":0},{"$f":"'Import Players'!S16","v":0},{"$f":"'Import Players'!T16","v":0},{"$f":"'Import Players'!U16","v":0},{"$f":"'Import Players'!V16","v":0},{"$f":"'Import Players'!W16","v":0}]
[{"$f":"'Import Players'!A17","v":0},{"$f":"'Import Players'!B17","v":0},{"$f":"'Import Players'!C17","v":0},{"$f":"'Import Players'!D17","v":0},{"$f":"'Import Players'!E17","v":0},{"$f":"'Import Players'!F17","v":0},{"$f":"'Import Players'!G17","v":0},null,null,null,{"$f":"'Import Players'!H17","v":0},{"$f":"'Import Players'!I17","v":0},{"$f":"'Import Players'!J17","v":0},{"$f":"'Import Players'!K17","v":0},{"$f":"'Import Players'!L17","v":0},{"$f":"'Import Players'!M17","v":0},{"$f":"'Import Players'!N17","v":0},{"$f":"'Import Players'!O17","v":0},{"$f":"'Import Players'!P17","v":0},{"$f":"'Import Players'!Q17","v":0},{"$f":"'Import Players'!R17","v":0},{"$f":"'Import Players'!S17","v":0},{"$f":"'Import Players'!T17","v":0},{"$f":"'Import Players'!U17","v":0},{"$f":"'Import Players'!V17","v":0},{"$f":"'Import Players'!W17","v":0}]
[{"$f":"'Import Players'!A18","v":0},{"$f":"'Import Players'!B18","v":0},{"$f":"'Import Players'!C18","v":0},{"$f":"'Import Players'!D18","v":0},{"$f":"'Import Players'!E18","v":0},{"$f":"'Import Players'!F18","v":0},{"$f":"'Import Players'!G18","v":0},null,null,null,{"$f":"'Import Players'!H18","v":0},{"$f":"'Import Players'!I18","v":0},{"$f":"'Import Players'!J18","v":0},{"$f":"'Import Players'!K18","v":0},{"$f":"'Import Players'!L18","v":0},{"$f":"'Import Players'!M18","v":0},{"$f":"'Import Players'!N18","v":0},{"$f":"'Import Players'!O18","v":0},{"$f":"'Import Players'!P18","v":0},{"$f":"'Import Players'!Q18","v":0},{"$f":"'Import Players'!R18","v":0},{"$f":"'Import Players'!S18","v":0},{"$f":"'Import Players'!T18","v":0},{"$f":"'Import Players'!U18","v":0},{"$f":"'Import Players'!V18","v":0},{"$f":"'Import Players'!W18","v":0}]
[{"$f":"'Import Players'!A19","v":0},{"$f":"'Import Players'!B19","v":0},{"$f":"'Import Players'!C19","v":0},{"$f":"'Import Players'!D19","v":0},{"$f":"'Import Players'!E19","v":0},{"$f":"'Import Players'!F19","v":0},{"$f":"'Import Players'!G19","v":0},null,null,null,{"$f":"'Import Players'!H19","v":0},{"$f":"'Import Players'!I19","v":0},{"$f":"'Import Players'!J19","v":0},{"$f":"'Import Players'!K19","v":0},{"$f":"'Import Players'!L19","v":0},{"$f":"'Import Players'!M19","v":0},{"$f":"'Import Players'!N19","v":0},{"$f":"'Import Players'!O19","v":0},{"$f":"'Import Players'!P19","v":0},{"$f":"'Import Players'!Q19","v":0},{"$f":"'Import Players'!R19","v":0},{"$f":"'Import Players'!S19","v":0},{"$f":"'Import Players'!T19","v":0},{"$f":"'Import Players'!U19","v":0},{"$f":"'Import Players'!V19","v":0},{"$f":"'Import Players'!W19","v":0}]
[{"$f":"'Import Players'!A20","v":0},{"$f":"'Import Players'!B20","v":0},{"$f":"'Import Players'!C20","v":0},{"$f":"'Import Players'!D20","v":0},{"$f":"'Import Players'!E20","v":0},{"$f":"'Import Players'!F20","v":0},{"$f":"'Import Players'!G20","v":0},null,null,null,{"$f":"'Import Players'!H20","v":0},{"$f":"'Import Players'!I20","v":0},{"$f":"'Import Players'!J20","v":0},{"$f":"'Import Players'!K20","v":0},{"$f":"'Import Players'!L20","v":0},{"$f":"'Import Players'!M20","v":0},{"$f":"'Import Players'!N20","v":0},{"$f":"'Import Players'!O20","v":0},{"$f":"'Import Players'!P20","v":0},{"$f":"'Import Players'!Q20","v":0},{"$f":"'Import Players'!R20","v":0},{"$f":"'Import Players'!S20","v":0},{"$f":"'Import Players'!T20","v":0},{"$f":"'Import Players'!U20","v":0},{"$f":"'Import Players'!V20","v":0},{"$f":"'Import Players'!W20","v":0}]
[{"$f":"'Import Players'!A21","v":0},{"$f":"'Import Players'!B21","v":0},{"$f":"'Import Players'!C21","v":0},{"$f":"'Import Players'!D21","v":0},{"$f":"'Import Players'!E21","v":0},{"$f":"'Import Players'!F21","v":0},{"$f":"'Import Players'!G21","v":0},null,null,null,{"$f":"'Import Players'!H21","v":0},{"$f":"'Import Players'!I21","v":0},{"$f":"'Import Players'!J21","v":0},{"$f":"'Import Players'!K21","v":0},{"$f":"'Import Players'!L21","v":0},{"$f":"'Import Players'!M21","v":0},{"$f":"'Import Players'!N21","v":0},{"$f":"'Import Players'!O21","v":0},{"$f":"'Import Players'!P21","v":0},{"$f":"'Import Players'!Q21","v":0},{"$f":"'Import Players'!R21","v":0},{"$f":"'Import Players'!S21","v":0},{"$f":"'Import Players'!T21","v":0},{"$f":"'Import Players'!U21","v":0},{"$f":"'Import Players'!V21","v":0},{"$f":"'Import Players'!W21","v":0}]
[{"$f":"'Import Players'!A22","v":0},{"$f":"'Import Players'!B22","v":0},{"$f":"'Import Players'!C22","v":0},{"$f":"'Import Players'!D22","v":0},{"$f":"'Import Players'!E22","v":0},{"$f":"'Import Players'!F22","v":0},{"$f":"'Import Players'!G22","v":0},null,null,null,{"$f":"'Import Players'!H22","v":0},{"$f":"'Import Players'!I22","v":0},{"$f":"'Import Players'!J22","v":0},{"$f":"'Import Players'!K22","v":0},{"$f":"'Import Players'!L22","v":0},{"$f":"'Import Players'!M22","v":0},{"$f":"'Import Players'!N22","v":0},{"$f":"'Import Players'!O22","v":0},{"$f":"'Import Players'!P22","v":0},{"$f":"'Import Players'!Q22","v":0},{"$f":"'Import Players'!R22","v":0},{"$f":"'Import Players'!S22","v":0},{"$f":"'Import Players'!T22","v":0},{"$f":"'Import Players'!U22","v":0},{"$f":"'Import Players'!V22","v":0},{"$f":"'Import Players'!W22","v":0}]
[{"$f":"'Import Players'!A23","v":0},{"$f":"'Import Players'!B23","v":0},{"$f":"'Import Players'!C23","v":0},{"$f":"'Import Players'!D23","v":0},{"$f":"'Import Players'!E23","v":0},{"$f":"'Import Players'!F23","v":0},{"$f":"'Import Players'!G23","v":0},null,null,null,{"$f":"'Import Players'!H23","v":0},{"$f":"'Import Players'!I23","v":0},{"$f":"'Import Players'!J23","v":0},{"$f":"'Import Players'!K23","v":0},{"$f":"'Import Players'!L23","v":0},{"$f":"'Import Players'!M23","v":0},{"$f":"'Import Players'!N23","v":0},{"$f":"'Import Players'!O23","v":0},{"$f":"'Import Players'!P23","v":0},{"$f":"'Import Players'!Q23","v":0},{"$f":"'Import Players'!R23","v":0},{"$f":"'Import Players'!S23","v":0},{"$f":"'Import Players'!T23","v":0},{"$f":"'Import Players'!U23","v":0},{"$f":"'Import Players'!V23","v":0},{"$f":"'Import Players'!W23","v":0}]
[{"$f":"'Import Players'!A24","v":0},{"$f":"'Import Players'!B24","v":0},{"$f":"'Import Players'!C24","v":0},{"$f":"'Import Players'!D24","v":0},{"$f":"'Import Players'!E24","v":0},{"$f":"'Import Players'!F24","v":0},{"$f":"'Import Players'!G24","v":0},null,null,null,{"$f":"'Import Players'!H24","v":0},{"$f":"'Import Players'!I24","v":0},{"$f":"'Import Players'!J24","v":0},{"$f":"'Import Players'!K24","v":0},{"$f":"'Import Players'!L24","v":0},{"$f":"'Import Players'!M24","v":0},{"$f":"'Import Players'!N24","v":0},{"$f":"'Import Players'!O24","v":0},{"$f":"'Import Players'!P24","v":0},{"$f":"'Import Players'!Q24","v":0},{"$f":"'Import Players'!R24","v":0},{"$f":"'Import Players'!S24","v":0},{"$f":"'Import Players'!T24","v":0},{"$f":"'Import Players'!U24","v":0},{"$f":"'Import Players'!V24","v":0},{"$f":"'Import Players'!W24","v":0}]
[{"$f":"'Import Players'!A25","v":0},{"$f":"'Import Players'!B25","v":0},{"$f":"'Import Players'!C25","v":0},{"$f":"'Import Players'!D25","v":0},{"$f":"'Import Players'!E25","v":0},{"$f":"'Import Players'!F25","v":0},{"$f":"'Import Players'!G25","v":0},null,null,null,{"$f":"'Import Players'!H25","v":0},{"$f":"'Import Players'!I25","v":0},{"$f":"'Import Players'!J25","v":0},{"$f":"'Import Players'!K25","v":0},{"$f":"'Import Players'!L25","v":0},{"$f":"'Import Players'!M25","v":0},{"$f":"'Import Players'!N25","v":0},{"$f":"'Import Players'!O25","v":0},{"$f":"'Import Players'!P25","v":0},{"$f":"'Import Players'!Q25","v":0},{"$f":"'Import Players'!R25","v":0},{"$f":"'Import Players'!S25","v":0},{"$f":"'Import Players'!T25","v":0},{"$f":"'Import Players'!U25","v":0},{"$f":"'Import Players'!V25","v":0},{"$f":"'Import Players'!W25","v":0}]
[{"$f":"'Import Players'!A26","v":0},{"$f":"'Import Players'!B26","v":0},{"$f":"'Import Players'!C26","v":0},{"$f":"'Import Players'!D26","v":0},{"$f":"'Import Players'!E26","v":0},{"$f":"'Import Players'!F26","v":0},{"$f":"'Import Players'!G26","v":0},null,null,null,{"$f":"'Import Players'!H26","v":0},{"$f":"'Import Players'!I26","v":0},{"$f":"'Import Players'!J26","v":0},{"$f":"'Import Players'!K26","v":0},{"$f":"'Import Players'!L26","v":0},{"$f":"'Import Players'!M26","v":0},{"$f":"'Import Players'!N26","v":0},{"$f":"'Import Players'!O26","v":0},{"$f":"'Import Players'!P26","v":0},{"$f":"'Import Players'!Q26","v":0},{"$f":"'Import Players'!R26","v":0},{"$f":"'Import Players'!S26","v":0},{"$f":"'Import Players'!T26","v":0},{"$f":"'Import Players'!U26","v":0},{"$f":"'Import Players'!V26","v":0},{"$f":"'Import Players'!W26","v":0}]
[{"$f":"'Import Players'!A27","v":0},{"$f":"'Import Players'!B27","v":0},{"$f":"'Import Players'!C27","v":0},{"$f":"'Import Players'!D27","v":0},{"$f":"'Import Players'!E27","v":0},{"$f":"'Import Players'!F27","v":0},{"$f":"'Import Players'!G27","v":0},null,null,null,{"$f":"'Import Players'!H27","v":0},{"$f":"'Import Players'!I27","v":0},{"$f":"'Import Players'!J27","v":0},{"$f":"'Import Players'!K27","v":0},{"$f":"'Import Players'!L27","v":0},{"$f":"'Import Players'!M27","v":0},{"$f":"'Import Players'!N27","v":0},{"$f":"'Import Players'!O27","v":0},{"$f":"'Import Players'!P27","v":0},{"$f":"'Import Players'!Q27","v":0},{"$f":"'Import Players'!R27","v":0},{"$f":"'Import Players'!S27","v":0},{"$f":"'Import Players'!T27","v":0},{"$f":"'Import Players'!U27","v":0},{"$f":"'Import Players'!V27","v":0},{"$f":"'Import Players'!W27","v":0}]
[{"$f":"'Import Players'!A28","v":0},{"$f":"'Import Players'!B28","v":0},{"$f":"'Import Players'!C28","v":0},{"$f":"'Import Players'!D28","v":0},{"$f":"'Import Players'!E28","v":0},{"$f":"'Import Players'!F28","v":0},{"$f":"'Import Players'!G28","v":0},null,null,null,{"$f":"'Import Players'!H28","v":0},{"$f":"'Import Players'!I28","v":0},{"$f":"'Import Players'!J28","v":0},{"$f":"'Import Players'!K28","v":0},{"$f":"'Import Players'!L28","v":0},{"$f":"'Import Players'!M28","v":0},{"$f":"'Import Players'!N28","v":0},{"$f":"'Import Players'!O28","v":0},{"$f":"'Import Players'!P28","v":0},{"$f":"'Import Players'!Q28","v":0},{"$f":"'Import Players'!R28","v":0},{"$f":"'Import Players'!S28","v":0},{"$f":"'Import Players'!T28","v":0},{"$f":"'Import Players'!U28","v":0},{"$f":"'Import Players'!V28","v":0},{"$f":"'Import Players'!W28","v":0}]
[{"$f":"'Import Players'!A29","v":0},{"$f":"'Import Players'!B29","v":0},{"$f":"'Import Players'!C29","v":0},{"$f":"'Import Players'!D29","v":0},{"$f":"'Import Players'!E29","v":0},{"$f":"'Import Players'!F29","v":0},{"$f":"'Import Players'!G29","v":0},null,null,null,{"$f":"'Import Players'!H29","v":0},{"$f":"'Import Players'!I29","v":0},{"$f":"'Import Players'!J29","v":0},{"$f":"'Import Players'!K29","v":0},{"$f":"'Import Players'!L29","v":0},{"$f":"'Import Players'!M29","v":0},{"$f":"'Import Players'!N29","v":0},{"$f":"'Import Players'!O29","v":0},{"$f":"'Import Players'!P29","v":0},{"$f":"'Import Players'!Q29","v":0},{"$f":"'Import Players'!R29","v":0},{"$f":"'Import Players'!S29","v":0},{"$f":"'Import Players'!T29","v":0},{"$f":"'Import Players'!U29","v":0},{"$f":"'Import Players'!V29","v":0},{"$f":"'Import Players'!W29","v":0}]
[{"$f":"'Import Players'!A30","v":0},{"$f":"'Import Players'!B30","v":0},{"$f":"'Import Players'!C30","v":0},{"$f":"'Import Players'!D30","v":0},{"$f":"'Import Players'!E30","v":0},{"$f":"'Import Players'!F30","v":0},{"$f":"'Import Players'!G30","v":0},null,null,null,{"$f":"'Import Players'!H30","v":0},{"$f":"'Import Players'!I30","v":0},{"$f":"'Import Players'!J30","v":0},{"$f":"'Import Players'!K30","v":0},{"$f":"'Import Players'!L30","v":0},{"$f":"'Import Players'!M30","v":0},{"$f":"'Import Players'!N30","v":0},{"$f":"'Import Players'!O30","v":0},{"$f":"'Import Players'!P30","v":0},{"$f":"'Import Players'!Q30","v":0},{"$f":"'Import Players'!R30","v":0},{"$f":"'Import Players'!S30","v":0},{"$f":"'Import Players'!T30","v":0},{"$f":"'Import Players'!U30","v":0},{"$f":"'Import Players'!V30","v":0},{"$f":"'Import Players'!W30","v":0}]
[{"$f":"'Import Players'!A31","v":0},{"$f":"'Import Players'!B31","v":0},{"$f":"'Import Players'!C31","v":0},{"$f":"'Import Players'!D31","v":0},{"$f":"'Import Players'!E31","v":0},{"$f":"'Import Players'!F31","v":0},{"$f":"'Import Players'!G31","v":0},null,null,null,{"$f":"'Import Players'!H31","v":0},{"$f":"'Import Players'!I31","v":0},{"$f":"'Import Players'!J31","v":0},{"$f":"'Import Players'!K31","v":0},{"$f":"'Import Players'!L31","v":0},{"$f":"'Import Players'!M31","v":0},{"$f":"'Import Players'!N31","v":0},{"$f":"'Import Players'!O31","v":0},{"$f":"'Import Players'!P31","v":0},{"$f":"'Import Players'!Q31","v":0},{"$f":"'Import Players'!R31","v":0},{"$f":"'Import Players'!S31","v":0},{"$f":"'Import Players'!T31","v":0},{"$f":"'Import Players'!U31","v":0},{"$f":"'Import Players'!V31","v":0},{"$f":"'Import Players'!W31","v":0}]
[{"$f":"'Import Players'!A32","v":0},{"$f":"'Import Players'!B32","v":0},{"$f":"'Import Players'!C32","v":0},{"$f":"'Import Players'!D32","v":0},{"$f":"'Import Players'!E32","v":0},{"$f":"'Import Players'!F32","v":0},{"$f":"'Import Players'!G32","v":0},null,null,null,{"$f":"'Import Players'!H32","v":0},{"$f":"'Import Players'!I32","v":0},{"$f":"'Import Players'!J32","v":0},{"$f":"'Import Players'!K32","v":0},{"$f":"'Import Players'!L32","v":0},{"$f":"'Import Players'!M32","v":0},{"$f":"'Import Players'!N32","v":0},{"$f":"'Import Players'!O32","v":0},{"$f":"'Import Players'!P32","v":0},{"$f":"'Import Players'!Q32","v":0},{"$f":"'Import Players'!R32","v":0},{"$f":"'Import Players'!S32","v":0},{"$f":"'Import Players'!T32","v":0},{"$f":"'Import Players'!U32","v":0},{"$f":"'Import Players'!V32","v":0},{"$f":"'Import Players'!W32","v":0}]
[{"$f":"'Import Players'!A33","v":0},{"$f":"'Import Players'!B33","v":0},{"$f":"'Import Players'!C33","v":0},{"$f":"'Import Players'!D33","v":0},{"$f":"'Import Players'!E33","v":0},{"$f":"'Import Players'!F33","v":0},{"$f":"'Import Players'!G33","v":0},null,null,null,{"$f":"'Import Players'!H33","v":0},{"$f":"'Import Players'!I33","v":0},{"$f":"'Import Players'!J33","v":0},{"$f":"'Import Players'!K33","v":0},{"$f":"'Import Players'!L33","v":0},{"$f":"'Import Players'!M33","v":0},{"$f":"'Import Players'!N33","v":0},{"$f":"'Import Players'!O33","v":0},{"$f":"'Import Players'!P33","v":0},{"$f":"'Import Players'!Q33","v":0},{"$f":"'Import Players'!R33","v":0},{"$f":"'Import Players'!S33","v":0},{"$f":"'Import Players'!T33","v":0},{"$f":"'Import Players'!U33","v":0},{"$f":"'Import Players'!V33","v":0},{"$f":"'Import Players'!W33","v":0}]
[{"$f":"'Import Players'!A34","v":0},{"$f":"'Import Players'!B34","v":0},{"$f":"'Import Players'!C34","v":0},{"$f":"'Import Players'!D34","v":0},{"$f":"'Import Players'!E34","v":0},{"$f":"'Import Players'!F34","v":0},{"$f":"'Import Players'!G34","v":0},null,null,null,{"$f":"'Import Players'!H34","v":0},{"$f":"'Import Players'!I34","v":0},{"$f":"'Import Players'!J34","v":0},{"$f":"'Import Players'!K34","v":0},{"$f":"'Import Players'!L34","v":0},{"$f":"'Import Players'!M34","v":0},{"$f":"'Import Players'!N34","v":0},{"$f":"'Import Players'!O34","v":0},{"$f":"'Import Players'!P34","v":0},{"$f":"'Import Players'!Q34","v":0},{"$f":"'Import Players'!R34","v":0},{"$f":"'Import Players'!S34","v":0},{"$f":"'Import Players'!T34","v":0},{"$f":"'Import Players'!U34","v":0},{"$f":"'Import Players'!V34","v":0},{"$f":"'Import Players'!W34","v":0}]
[{"$f":"'Import Players'!A35","v":0},{"$f":"'Import Players'!B35","v":0},{"$f":"'Import Players'!C35","v":0},{"$f":"'Import Players'!D35","v":0},{"$f":"'Import Players'!E35","v":0},{"$f":"'Import Players'!F35","v":0},{"$f":"'Import Players'!G35","v":0},null,null,null,{"$f":"'Import Players'!H35","v":0},{"$f":"'Import Players'!I35","v":0},{"$f":"'Import Players'!J35","v":0},{"$f":"'Import Players'!K35","v":0},{"$f":"'Import Players'!L35","v":0},{"$f":"'Import Players'!M35","v":0},{"$f":"'Import Players'!N35","v":0},{"$f":"'Import Players'!O35","v":0},{"$f":"'Import Players'!P35","v":0},{"$f":"'Import Players'!Q35","v":0},{"$f":"'Import Players'!R35","v":0},{"$f":"'Import Players'!S35","v":0},{"$f":"'Import Players'!T35","v":0},{"$f":"'Import Players'!U35","v":0},{"$f":"'Import Players'!V35","v":0},{"$f":"'Import Players'!W35","v":0}]
[{"$f":"'Import Players'!A36","v":0},{"$f":"'Import Players'!B36","v":0},{"$f":"'Import Players'!C36","v":0},{"$f":"'Import Players'!D36","v":0},{"$f":"'Import Players'!E36","v":0},{"$f":"'Import Players'!F36","v":0},{"$f":"'Import Players'!G36","v":0},null,null,null,{"$f":"'Import Players'!H36","v":0},{"$f":"'Import Players'!I36","v":0},{"$f":"'Import Players'!J36","v":0},{"$f":"'Import Players'!K36","v":0},{"$f":"'Import Players'!L36","v":0},{"$f":"'Import Players'!M36","v":0},{"$f":"'Import Players'!N36","v":0},{"$f":"'Import Players'!O36","v":0},{"$f":"'Import Players'!P36","v":0},{"$f":"'Import Players'!Q36","v":0},{"$f":"'Import Players'!R36","v":0},{"$f":"'Import Players'!S36","v":0},{"$f":"'Import Players'!T36","v":0},{"$f":"'Import Players'!U36","v":0},{"$f":"'Import Players'!V36","v":0},{"$f":"'Import Players'!W36","v":0}]
[{"$f":"'Import Players'!A37","v":0},{"$f":"'Import Players'!B37","v":0},{"$f":"'Import Players'!C37","v":0},{"$f":"'Import Players'!D37","v":0},{"$f":"'Import Players'!E37","v":0},{"$f":"'Import Players'!F37","v":0},{"$f":"'Import Players'!G37","v":0},null,null,null,{"$f":"'Import Players'!H37","v":0},{"$f":"'Import Players'!I37","v":0},{"$f":"'Import Players'!J37","v":0},{"$f":"'Import Players'!K37","v":0},{"$f":"'Import Players'!L37","v":0},{"$f":"'Import Players'!M37","v":0},{"$f":"'Import Players'!N37","v":0},{"$f":"'Import Players'!O37","v":0},{"$f":"'Import Players'!P37","v":0},{"$f":"'Import Players'!Q37","v":0},{"$f":"'Import Players'!R37","v":0},{"$f":"'Import Players'!S37","v":0},{"$f":"'Import Players'!T37","v":0},{"$f":"'Import Players'!U37","v":0},{"$f":"'Import Players'!V37","v":0},{"$f":"'Import Players'!W37","v":0}]
[{"$f":"'Import Players'!A38","v":0},{"$f":"'Import Players'!B38","v":0},{"$f":"'Import Players'!C38","v":0},{"$f":"'Import Players'!D38","v":0},{"$f":"'Import Players'!E38","v":0},{"$f":"'Import Players'!F38","v":0},{"$f":"'Import Players'!G38","v":0},null,null,null,{"$f":"'Import Players'!H38","v":0},{"$f":"'Import Players'!I38","v":0},{"$f":"'Import Players'!J38","v":0},{"$f":"'Import Players'!K38","v":0},{"$f":"'Import Players'!L38","v":0},{"$f":"'Import Players'!M38","v":0},{"$f":"'Import Players'!N38","v":0},{"$f":"'Import Players'!O38","v":0},{"$f":"'Import Players'!P38","v":0},{"$f":"'Import Players'!Q38","v":0},{"$f":"'Import Players'!R38","v":0},{"$f":"'Import Players'!S38","v":0},{"$f":"'Import Players'!T38","v":0},{"$f":"'Import Players'!U38","v":0},{"$f":"'Import Players'!V38","v":0},{"$f":"'Import Players'!W38","v":0}]
[{"$f":"'Import Players'!A39","v":0},{"$f":"'Import Players'!B39","v":0},{"$f":"'Import Players'!C39","v":0},{"$f":"'Import Players'!D39","v":0},{"$f":"'Import Players'!E39","v":0},{"$f":"'Import Players'!F39","v":0},{"$f":"'Import Players'!G39","v":0},null,null,null,{"$f":"'Import Players'!H39","v":0},{"$f":"'Import Players'!I39","v":0},{"$f":"'Import Players'!J39","v":0},{"$f":"'Import Players'!K39","v":0},{"$f":"'Import Players'!L39","v":0},{"$f":"'Import Players'!M39","v":0},{"$f":"'Import Players'!N39","v":0},{"$f":"'Import Players'!O39","v":0},{"$f":"'Import Players'!P39","v":0},{"$f":"'Import Players'!Q39","v":0},{"$f":"'Import Players'!R39","v":0},{"$f":"'Import Players'!S39","v":0},{"$f":"'Import Players'!T39","v":0},{"$f":"'Import Players'!U39","v":0},{"$f":"'Import Players'!V39","v":0},{"$f":"'Import Players'!W39","v":0}]
[{"$f":"'Import Players'!A41","v":0},{"$f":"'Import Players'!B41","v":0},{"$f":"'Import Players'!C41","v":0},{"$f":"'Import Players'!D41","v":0},{"$f":"'Import Players'!E41","v":0},{"$f":"'Import Players'!F41","v":0},{"$f":"'Import Players'!G41","v":0},null,null,null,{"$f":"'Import Players'!H41","v":0},{"$f":"'Import Players'!I41","v":0},{"$f":"'Import Players'!J41","v":0},{"$f":"'Import Players'!K41","v":0},{"$f":"'Import Players'!L41","v":0},{"$f":"'Import Players'!M41","v":0},{"$f":"'Import Players'!N41","v":0},{"$f":"'Import Players'!O41","v":0},{"$f":"'Import Players'!P41","v":0},{"$f":"'Import Players'!Q41","v":0},{"$f":"'Import Players'!R41","v":0},{"$f":"'Import Players'!S41","v":0},{"$f":"'Import Players'!T41","v":0},{"$f":"'Import Players'!U41","v":0},{"$f":"'Import Players'!V41","v":0},{"$f":"'Import Players'!W41","v":0}]
[{"$f":"'Import Players'!A42","v":0},{"$f":"'Import Players'!B42","v":0},{"$f":"'Import Players'!C42","v":0},{"$f":"'Import Players'!D42","v":0},{"$f":"'Import Players'!E42","v":0},{"$f":"'Import Players'!F42","v":0},{"$f":"'Import Players'!G42","v":0},null,null,null,{"$f":"'Import Players'!H42","v":0},{"$f":"'Import Players'!I42","v":0},{"$f":"'Import Players'!J42","v":0},{"$f":"'Import Players'!K42","v":0},{"$f":"'Import Players'!L42","v":0},{"$f":"'Import Players'!M42","v":0},{"$f":"'Import Players'!N42","v":0},{"$f":"'Import Players'!O42","v":0},{"$f":"'Import Players'!P42","v":0},{"$f":"'Import Players'!Q42","v":0},{"$f":"'Import Players'!R42","v":0},{"$f":"'Import Players'!S42","v":0},{"$f":"'Import Players'!T42","v":0},{"$f":"'Import Players'!U42","v":0},{"$f":"'Import Players'!V42","v":0},{"$f":"'Import Players'!W42","v":0}]
[{"$f":"'Import Players'!A43","v":0},{"$f":"'Import Players'!B43","v":0},{"$f":"'Import Players'!C43","v":0},{"$f":"'Import Players'!D43","v":0},{"$f":"'Import Players'!E43","v":0},{"$f":"'Import Players'!F43","v":0},{"$f":"'Import Players'!G43","v":0},null,null,null,{"$f":"'Import Players'!H43","v":0},{"$f":"'Import Players'!I43","v":0},{"$f":"'Import Players'!J43","v":0},{"$f":"'Import Players'!K43","v":0},{"$f":"'Import Players'!L43","v":0},{"$f":"'Import Players'!M43","v":0},{"$f":"'Import Players'!N43","v":0},{"$f":"'Import Players'!O43","v":0},{"$f":"'Import Players'!P43","v":0},{"$f":"'Import Players'!Q43","v":0},{"$f":"'Import Players'!R43","v":0},{"$f":"'Import Players'!S43","v":0},{"$f":"'Import Players'!T43","v":0},{"$f":"'Import Players'!U43","v":0},{"$f":"'Import Players'!V43","v":0},{"$f":"'Import Players'!W43","v":0}]
[{"$f":"'Import Players'!A44","v":0},{"$f":"'Import Players'!B44","v":0},{"$f":"'Import Players'!C44","v":0},{"$f":"'Import Players'!D44","v":0},{"$f":"'Import Players'!E44","v":0},{"$f":"'Import Players'!F44","v":0},{"$f":"'Import Players'!G44","v":0},null,null,null,{"$f":"'Import Players'!H44","v":0},{"$f":"'Import Players'!I44","v":0},{"$f":"'Import Players'!J44","v":0},{"$f":"'Import Players'!K44","v":0},{"$f":"'Import Players'!L44","v":0},{"$f":"'Import Players'!M44","v":0},{"$f":"'Import Players'!N44","v":0},{"$f":"'Import Players'!O44","v":0},{"$f":"'Import Players'!P44","v":0},{"$f":"'Import Players'!Q44","v":0},{"$f":"'Import Players'!R44","v":0},{"$f":"'Import Players'!S44","v":0},{"$f":"'Import Players'!T44","v":0},{"$f":"'Import Players'!U44","v":0},{"$f":"'Import Players'!V44","v":0},{"$f":"'Import Players'!W44","v":0}]
[{"$f":"'Import Players'!A45","v":0},{"$f":"'Import Players'!B45","v":0},{"$f":"'Import Players'!C45","v":0},{"$f":"'Import Players'!D45","v":0},{"$f":"'Import Players'!E45","v":0},{"$f":"'Import Players'!F45","v":0},{"$f":"'Import Players'!G45","v":0},null,null,null,{"$f":"'Import Players'!H45","v":0},{"$f":"'Import Players'!I45","v":0},{"$f":"'Import Players'!J45","v":0},{"$f":"'Import Players'!K45","v":0},{"$f":"'Import Players'!L45","v":0},{"$f":"'Import Players'!M45","v":0},{"$f":"'Import Players'!N45","v":0},{"$f":"'Import Players'!O45","v":0},{"$f":"'Import Players'!P45","v":0},{"$f":"'Import Players'!Q45","v":0},{"$f":"'Import Players'!R45","v":0},{"$f":"'Import Players'!S45","v":0},{"$f":"'Import Players'!T45","v":0},{"$f":"'Import Players'!U45","v":0},{"$f":"'Import Players'!V45","v":0},{"$f":"'Import Players'!W45","v":0}]
[{"$f":"'Import Players'!A46","v":0},{"$f":"'Import Players'!B46","v":0},{"$f":"'Import Players'!C46","v":0},{"$f":"'Import Players'!D46","v":0},{"$f":"'Import Players'!E46","v":0},{"$f":"'Import Players'!F46","v":0},{"$f":"'Import Players'!G46","v":0},null,null,null,{"$f":"'Import Players'!H46","v":0},{"$f":"'Import Players'!I46","v":0},{"$f":"'Import Players'!J46","v":0},{"$f":"'Import Players'!K46","v":0},{"$f":"'Import Players'!L46","v":0},{"$f":"'Import Players'!M46","v":0},{"$f":"'Import Players'!N46","v":0},{"$f":"'Import Players'!O46","v":0},{"$f":"'Import Players'!P46","v":0},{"$f":"'Import Players'!Q46","v":0},{"$f":"'Import Players'!R46","v":0},{"$f":"'Import Players'!S46","v":0},{"$f":"'Import Players'!T46","v":0},{"$f":"'Import Players'!U46","v":0},{"$f":"'Import Players'!V46","v":0},{"$f":"'Import Players'!W46","v":0}]
[{"$f":"'Import Players'!A47","v":0},{"$f":"'Import Players'!B47","v":0},{"$f":"'Import Players'!C47","v":0},{"$f":"'Import Players'!D47","v":0},{"$f":"'Import Players'!E47","v":0},{"$f":"'Import Players'!F47","v":0},{"$f":"'Import Players'!G47","v":0},null,null,null,{"$f":"'Import Players'!H47","v":0},{"$f":"'Import Players'!I47","v":0},{"$f":"'Import Players'!J47","v":0},{"$f":"'Import Players'!K47","v":0},{"$f":"'Import Players'!L47","v":0},{"$f":"'Import Players'!M47","v":0},{"$f":"'Import Players'!N47","v":0},{"$f":"'Import Players'!O47","v":0},{"$f":"'Import Players'!P47","v":0},{"$f":"'Import Players'!Q47","v":0},{"$f":"'Import Players'!R47","v":0},{"$f":"'Import Players'!S47","v":0},{"$f":"'Import Players'!T47","v":0},{"$f":"'Import Players'!U47","v":0},{"$f":"'Import Players'!V47","v":0},{"$f":"'Import Players'!W47","v":0}]
[{"$f":"'Import Players'!A48","v":0},{"$f":"'Import Players'!B48","v":0},{"$f":"'Import Players'!C48","v":0},{"$f":"'Import Players'!D48","v":0},{"$f":"'Import Players'!E48","v":0},{"$f":"'Import Players'!F48","v":0},{"$f":"'Import Players'!G48","v":0},null,null,null,{"$f":"'Import Players'!H48","v":0},{"$f":"'Import Players'!I48","v":0},{"$f":"'Import Players'!J48","v":0},{"$f":"'Import Players'!K48","v":0},{"$f":"'Import Players'!L48","v":0},{"$f":"'Import Players'!M48","v":0},{"$f":"'Import Players'!N48","v":0},{"$f":"'Import Players'!O48","v":0},{"$f":"'Import Players'!P48","v":0},{"$f":"'Import Players'!Q48","v":0},{"$f":"'Import Players'!R48","v":0},{"$f":"'Import Players'!S48","v":0},{"$f":"'Import Players'!T48","v":0},{"$f":"'Import Players'!U48","v":0},{"$f":"'Import Players'!V48","v":0},{"$f":"'Import Players'!W48","v":0}]
[{"$f":"'Import Players'!A49","v":0},{"$f":"'Import Players'!B49","v":0},{"$f":"'Import Players'!C49","v":0},{"$f":"'Import Players'!D49","v":0},{"$f":"'Import Players'!E49","v":0},{"$f":"'Import Players'!F49","v":0},{"$f":"'Import Players'!G49","v":0},null,null,null,{"$f":"'Import Players'!H49","v":0},{"$f":"'Import Players'!I49","v":0},{"$f":"'Import Players'!J49","v":0},{"$f":"'Import Players'!K49","v":0},{"$f":"'Import Players'!L49","v":0},{"$f":"'Import Players'!M49","v":0},{"$f":"'Import Players'!N49","v":0},{"$f":"'Import Players'!O49","v":0},{"$f":"'Import Players'!P49","v":0},{"$f":"'Import Players'!Q49","v":0},{"$f":"'Import Players'!R49","v":0},{"$f":"'Import Players'!S49","v":0},{"$f":"'Import Players'!T49","v":0},{"$f":"'Import Players'!U49","v":0},{"$f":"'Import Players'!V49","v":0},{"$f":"'Import Players'!W49","v":0}]
[{"$f":"'Import Players'!A50","v":0},{"$f":"'Import Players'!B50","v":0},{"$f":"'Import Players'!C50","v":0},{"$f":"'Import Players'!D50","v":0},{"$f":"'Import Players'!E50","v":0},{"$f":"'Import Players'!F50","v":0},{"$f":"'Import Players'!G50","v":0},null,null,null,{"$f":"'Import Players'!H50","v":0},{"$f":"'Import Players'!I50","v":0},{"$f":"'Import Players'!J50","v":0},{"$f":"'Import Players'!K50","v":0},{"$f":"'Import Players'!L50","v":0},{"$f":"'Import Players'!M50","v":0},{"$f":"'Import Players'!N50","v":0},{"$f":"'Import Players'!O50","v":0},{"$f":"'Import Players'!P50","v":0},{"$f":"'Import Players'!Q50","v":0},{"$f":"'Import Players'!R50","v":0},{"$f":"'Import Players'!S50","v":0},{"$f":"'Import Players'!T50","v":0},{"$f":"'Import Players'!U50","v":0},{"$f":"'Import Players'!V50","v":0},{"$f":"'Import Players'!W50","v":0}]
[{"$f":"'Import Players'!A51","v":0},{"$f":"'Import Players'!B51","v":0},{"$f":"'Import Players'!C51","v":0},{"$f":"'Import Players'!D51","v":0},{"$f":"'Import Players'!E51","v":0},{"$f":"'Import Players'!F51","v":0},{"$f":"'Import Players'!G51","v":0},null,null,null,{"$f":"'Import Players'!H51","v":0},{"$f":"'Import Players'!I51","v":0},{"$f":"'Import Players'!J51","v":0},{"$f":"'Import Players'!K51","v":0},{"$f":"'Import Players'!L51","v":0},{"$f":"'Import Players'!M51","v":0},{"$f":"'Import Players'!N51","v":0},{"$f":"'Import Players'!O51","v":0},{"$f":"'Import Players'!P51","v":0},{"$f":"'Import Players'!Q51","v":0},{"$f":"'Import Players'!R51","v":0},{"$f":"'Import Players'!S51","v":0},{"$f":"'Import Players'!T51","v":0},{"$f":"'Import Players'!U51","v":0},{"$f":"'Import Players'!V51","v":0},{"$f":"'Import Players'!W51","v":0}]
[{"$f":"'Import Players'!A52","v":0},{"$f":"'Import Players'!B52","v":0},{"$f":"'Import Players'!C52","v":0},{"$f":"'Import Players'!D52","v":0},{"$f":"'Import Players'!E52","v":0},{"$f":"'Import Players'!F52","v":0},{"$f":"'Import Players'!G52","v":0},null,null,null,{"$f":"'Import Players'!H52","v":0},{"$f":"'Import Players'!I52","v":0},{"$f":"'Import Players'!J52","v":0},{"$f":"'Import Players'!K52","v":0},{"$f":"'Import Players'!L52","v":0},{"$f":"'Import Players'!M52","v":0},{"$f":"'Import Players'!N52","v":0},{"$f":"'Import Players'!O52","v":0},{"$f":"'Import Players'!P52","v":0},{"$f":"'Import Players'!Q52","v":0},{"$f":"'Import Players'!R52","v":0},{"$f":"'Import Players'!S52","v":0},{"$f":"'Import Players'!T52","v":0},{"$f":"'Import Players'!U52","v":0},{"$f":"'Import Players'!V52","v":0},{"$f":"'Import Players'!W52","v":0}]
[{"$f":"'Import Players'!A53","v":0},{"$f":"'Import Players'!B53","v":0},{"$f":"'Import Players'!C53","v":0},{"$f":"'Import Players'!D53","v":0},{"$f":"'Import Players'!E53","v":0},{"$f":"'Import Players'!F53","v":0},{"$f":"'Import Players'!G53","v":0},null,null,null,{"$f":"'Import Players'!H53","v":0},{"$f":"'Import Players'!I53","v":0},{"$f":"'Import Players'!J53","v":0},{"$f":"'Import Players'!K53","v":0},{"$f":"'Import Players'!L53","v":0},{"$f":"'Import Players'!M53","v":0},{"$f":"'Import Players'!N53","v":0},{"$f":"'Import Players'!O53","v":0},{"$f":"'Import Players'!P53","v":0},{"$f":"'Import Players'!Q53","v":0},{"$f":"'Import Players'!R53","v":0},{"$f":"'Import Players'!S53","v":0},{"$f":"'Import Players'!T53","v":0},{"$f":"'Import Players'!U53","v":0},{"$f":"'Import Players'!V53","v":0},{"$f":"'Import Players'!W53","v":0}]
[{"$f":"'Import Players'!A54","v":0},{"$f":"'Import Players'!B54","v":0},{"$f":"'Import Players'!C54","v":0},{"$f":"'Import Players'!D54","v":0},{"$f":"'Import Players'!E54","v":0},{"$f":"'Import Players'!F54","v":0},{"$f":"'Import Players'!G54","v":0},null,null,null,{"$f":"'Import Players'!H54","v":0},{"$f":"'Import Players'!I54","v":0},{"$f":"'Import Players'!J54","v":0},{"$f":"'Import Players'!K54","v":0},{"$f":"'Import Players'!L54","v":0},{"$f":"'Import Players'!M54","v":0},{"$f":"'Import Players'!N54","v":0},{"$f":"'Import Players'!O54","v":0},{"$f":"'Import Players'!P54","v":0},{"$f":"'Import Players'!Q54","v":0},{"$f":"'Import Players'!R54","v":0},{"$f":"'Import Players'!S54","v":0},{"$f":"'Import Players'!T54","v":0},{"$f":"'Import Players'!U54","v":0},{"$f":"'Import Players'!V54","v":0},{"$f":"'Import Players'!W54","v":0}]
[{"$f":"'Import Players'!A55","v":0},{"$f":"'Import Players'!B55","v":0},{"$f":"'Import Players'!C55","v":0},{"$f":"'Import Players'!D55","v":0},{"$f":"'Import Players'!E55","v":0},{"$f":"'Import Players'!F55","v":0},{"$f":"'Import Players'!G55","v":0},null,null,null,{"$f":"'Import Players'!H55","v":0},{"$f":"'Import Players'!I55","v":0},{"$f":"'Import Players'!J55","v":0},{"$f":"'Import Players'!K55","v":0},{"$f":"'Import Players'!L55","v":0},{"$f":"'Import Players'!M55","v":0},{"$f":"'Import Players'!N55","v":0},{"$f":"'Import Players'!O55","v":0},{"$f":"'Import Players'!P55","v":0},{"$f":"'Import Players'!Q55","v":0},{"$f":"'Import Players'!R55","v":0},{"$f":"'Import Players'!S55","v":0},{"$f":"'Import Players'!T55","v":0},{"$f":"'Import Players'!U55","v":0},{"$f":"'Import Players'!V55","v":0},{"$f":"'Import Players'!W55","v":0}]
[{"$f":"'Import Players'!A56","v":0},{"$f":"'Import Players'!B56","v":0},{"$f":"'Import Players'!C56","v":0},{"$f":"'Import Players'!D56","v":0},{"$f":"'Import Players'!E56","v":0},{"$f":"'Import Players'!F56","v":0},{"$f":"'Import Players'!G56","v":0},null,null,null,{"$f":"'Import Players'!H56","v":0},{"$f":"'Import Players'!I56","v":0},{"$f":"'Import Players'!J56","v":0},{"$f":"'Import Players'!K56","v":0},{"$f":"'Import Players'!L56","v":0},{"$f":"'Import Players'!M56","v":0},{"$f":"'Import Players'!N56","v":0},{"$f":"'Import Players'!O56","v":0},{"$f":"'Import Players'!P56","v":0},{"$f":"'Import Players'!Q56","v":0},{"$f":"'Import Players'!R56","v":0},{"$f":"'Import Players'!S56","v":0},{"$f":"'Import Players'!T56","v":0},{"$f":"'Import Players'!U56","v":0},{"$f":"'Import Players'!V56","v":0},{"$f":"'Import Players'!W56","v":0}]
[{"$f":"'Import Players'!A57","v":0},{"$f":"'Import Players'!B57","v":0},{"$f":"'Import Players'!C57","v":0},{"$f":"'Import Players'!D57","v":0},{"$f":"'Import Players'!E57","v":0},{"$f":"'Import Players'!F57","v":0},{"$f":"'Import Players'!G57","v":0},null,null,null,{"$f":"'Import Players'!H57","v":0},{"$f":"'Import Players'!I57","v":0},{"$f":"'Import Players'!J57","v":0},{"$f":"'Import Players'!K57","v":0},{"$f":"'Import Players'!L57","v":0},{"$f":"'Import Players'!M57","v":0},{"$f":"'Import Players'!N57","v":0},{"$f":"'Import Players'!O57","v":0},{"$f":"'Import Players'!P57","v":0},{"$f":"'Import Players'!Q57","v":0},{"$f":"'Import Players'!R57","v":0},{"$f":"'Import Players'!S57","v":0},{"$f":"'Import Players'!T57","v":0},{"$f":"'Import Players'!U57","v":0},{"$f":"'Import Players'!V57","v":0},{"$f":"'Import Players'!W57","v":0}]
[{"$f":"'Import Players'!A58","v":0},{"$f":"'Import Players'!B58","v":0},{"$f":"'Import Players'!C58","v":0},{"$f":"'Import Players'!D58","v":0},{"$f":"'Import Players'!E58","v":0},{"$f":"'Import Players'!F58","v":0},{"$f":"'Import Players'!G58","v":0},null,null,null,{"$f":"'Import Players'!H58","v":0},{"$f":"'Import Players'!I58","v":0},{"$f":"'Import Players'!J58","v":0},{"$f":"'Import Players'!K58","v":0},{"$f":"'Import Players'!L58","v":0},{"$f":"'Import Players'!M58","v":0},{"$f":"'Import Players'!N58","v":0},{"$f":"'Import Players'!O58","v":0},{"$f":"'Import Players'!P58","v":0},{"$f":"'Import Players'!Q58","v":0},{"$f":"'Import Players'!R58","v":0},{"$f":"'Import Players'!S58","v":0},{"$f":"'Import Players'!T58","v":0},{"$f":"'Import Players'!U58","v":0},{"$f":"'Import Players'!V58","v":0},{"$f":"'Import Players'!W58","v":0}]
[{"$f":"'Import Players'!A59","v":0},{"$f":"'Import Players'!B59","v":0},{"$f":"'Import Players'!C59","v":0},{"$f":"'Import Players'!D59","v":0},{"$f":"'Import Players'!E59","v":0},{"$f":"'Import Players'!F59","v":0},{"$f":"'Import Players'!G59","v":0},null,null,null,{"$f":"'Import Players'!H59","v":0},{"$f":"'Import Players'!I59","v":0},{"$f":"'Import Players'!J59","v":0},{"$f":"'Import Players'!K59","v":0},{"$f":"'Import Players'!L59","v":0},{"$f":"'Import Players'!M59","v":0},{"$f":"'Import Players'!N59","v":0},{"$f":"'Import Players'!O59","v":0},{"$f":"'Import Players'!P59","v":0},{"$f":"'Import Players'!Q59","v":0},{"$f":"'Import Players'!R59","v":0},{"$f":"'Import Players'!S59","v":0},{"$f":"'Import Players'!T59","v":0},{"$f":"'Import Players'!U59","v":0},{"$f":"'Import Players'!V59","v":0},{"$f":"'Import Players'!W59","v":0}]
[{"$f":"'Import Players'!A60","v":0},{"$f":"'Import Players'!B60","v":0},{"$f":"'Import Players'!C60","v":0},{"$f":"'Import Players'!D60","v":0},{"$f":"'Import Players'!E60","v":0},{"$f":"'Import Players'!F60","v":0},{"$f":"'Import Players'!G60","v":0},null,null,null,{"$f":"'Import Players'!H60","v":0},{"$f":"'Import Players'!I60","v":0},{"$f":"'Import Players'!J60","v":0},{"$f":"'Import Players'!K60","v":0},{"$f":"'Import Players'!L60","v":0},{"$f":"'Import Players'!M60","v":0},{"$f":"'Import Players'!N60","v":0},{"$f":"'Import Players'!O60","v":0},{"$f":"'Import Players'!P60","v":0},{"$f":"'Import Players'!Q60","v":0},{"$f":"'Import Players'!R60","v":0},{"$f":"'Import Players'!S60","v":0},{"$f":"'Import Players'!T60","v":0},{"$f":"'Import Players'!U60","v":0},{"$f":"'Import Players'!V60","v":0},{"$f":"'Import Players'!W60","v":0}]
[{"$f":"'Import Players'!A61","v":0},{"$f":"'Import Players'!B61","v":0},{"$f":"'Import Players'!C61","v":0},{"$f":"'Import Players'!D61","v":0},{"$f":"'Import Players'!E61","v":0},{"$f":"'Import Players'!F61","v":0},{"$f":"'Import Players'!G61","v":0},null,null,null,{"$f":"'Import Players'!H61","v":0},{"$f":"'Import Players'!I61","v":0},{"$f":"'Import Players'!J61","v":0},{"$f":"'Import Players'!K61","v":0},{"$f":"'Import Players'!L61","v":0},{"$f":"'Import Players'!M61","v":0},{"$f":"'Import Players'!N61","v":0},{"$f":"'Import Players'!O61","v":0},{"$f":"'Import Players'!P61","v":0},{"$f":"'Import Players'!Q61","v":0},{"$f":"'Import Players'!R61","v":0},{"$f":"'Import Players'!S61","v":0},{"$f":"'Import Players'!T61","v":0},{"$f":"'Import Players'!U61","v":0},{"$f":"'Import Players'!V61","v":0},{"$f":"'Import Players'!W61","v":0}]
[{"$f":"'Import Players'!A62","v":0},{"$f":"'Import Players'!B62","v":0},{"$f":"'Import Players'!C62","v":0},{"$f":"'Import Players'!D62","v":0},{"$f":"'Import Players'!E62","v":0},{"$f":"'Import Players'!F62","v":0},{"$f":"'Import Players'!G62","v":0},null,null,null,{"$f":"'Import Players'!H62","v":0},{"$f":"'Import Players'!I62","v":0},{"$f":"'Import Players'!J62","v":0},{"$f":"'Import Players'!K62","v":0},{"$f":"'Import Players'!L62","v":0},{"$f":"'Import Players'!M62","v":0},{"$f":"'Import Players'!N62","v":0},{"$f":"'Import Players'!O62","v":0},{"$f":"'Import Players'!P62","v":0},{"$f":"'Import Players'!Q62","v":0},{"$f":"'Import Players'!R62","v":0},{"$f":"'Import Players'!S62","v":0},{"$f":"'Import Players'!T62","v":0},{"$f":"'Import Players'!U62","v":0},{"$f":"'Import Players'!V62","v":0},{"$f":"'Import Players'!W62","v":0}]
[{"$f":"'Import Players'!A63","v":0},{"$f":"'Import Players'!B63","v":0},{"$f":"'Import Players'!C63","v":0},{"$f":"'Import Players'!D63","v":0},{"$f":"'Import Players'!E63","v":0},{"$f":"'Import Players'!F63","v":0},{"$f":"'Import Players'!G63","v":0},null,null,null,{"$f":"'Import Players'!H63","v":0},{"$f":"'Import Players'!I63","v":0},{"$f":"'Import Players'!J63","v":0},{"$f":"'Import Players'!K63","v":0},{"$f":"'Import Players'!L63","v":0},{"$f":"'Import Players'!M63","v":0},{"$f":"'Import Players'!N63","v":0},{"$f":"'Import Players'!O63","v":0},{"$f":"'Import Players'!P63","v":0},{"$f":"'Import Players'!Q63","v":0},{"$f":"'Import Players'!R63","v":0},{"$f":"'Import Players'!S63","v":0},{"$f":"'Import Players'!T63","v":0},{"$f":"'Import Players'!U63","v":0},{"$f":"'Import Players'!V63","v":0},{"$f":"'Import Players'!W63","v":0}]
[{"$f":"'Import Players'!A64","v":0},{"$f":"'Import Players'!B64","v":0},{"$f":"'Import Players'!C64","v":0},{"$f":"'Import Players'!D64","v":0},{"$f":"'Import Players'!E64","v":0},{"$f":"'Import Players'!F64","v":0},{"$f":"'Import Players'!G64","v":0},null,null,null,{"$f":"'Import Players'!H64","v":0},{"$f":"'Import Players'!I64","v":0},{"$f":"'Import Players'!J64","v":0},{"$f":"'Import Players'!K64","v":0},{"$f":"'Import Players'!L64","v":0},{"$f":"'Import Players'!M64","v":0},{"$f":"'Import Players'!N64","v":0},{"$f":"'Import Players'!O64","v":0},{"$f":"'Import Players'!P64","v":0},{"$f":"'Import Players'!Q64","v":0},{"$f":"'Import Players'!R64","v":0},{"$f":"'Import Players'!S64","v":0},{"$f":"'Import Players'!T64","v":0},{"$f":"'Import Players'!U64","v":0},{"$f":"'Import Players'!V64","v":0},{"$f":"'Import Players'!W64","v":0}]
[{"$f":"'Import Players'!A65","v":0},{"$f":"'Import Players'!B65","v":0},{"$f":"'Import Players'!C65","v":0},{"$f":"'Import Players'!D65","v":0},{"$f":"'Import Players'!E65","v":0},{"$f":"'Import Players'!F65","v":0},{"$f":"'Import Players'!G65","v":0},null,null,null,{"$f":"'Import Players'!H65","v":0},{"$f":"'Import Players'!I65","v":0},{"$f":"'Import Players'!J65","v":0},{"$f":"'Import Players'!K65","v":0},{"$f":"'Import Players'!L65","v":0},{"$f":"'Import Players'!M65","v":0},{"$f":"'Import Players'!N65","v":0},{"$f":"'Import Players'!O65","v":0},{"$f":"'Import Players'!P65","v":0},{"$f":"'Import Players'!Q65","v":0},{"$f":"'Import Players'!R65","v":0},{"$f":"'Import Players'!S65","v":0},{"$f":"'Import Players'!T65","v":0},{"$f":"'Import Players'!U65","v":0},{"$f":"'Import Players'!V65","v":0},{"$f":"'Import Players'!W65","v":0}]
[{"$f":"'Import Players'!A66","v":0},{"$f":"'Import Players'!B66","v":0},{"$f":"'Import Players'!C66","v":0},{"$f":"'Import Players'!D66","v":0},{"$f":"'Import Players'!E66","v":0},{"$f":"'Import Players'!F66","v":0},{"$f":"'Import Players'!G66","v":0},null,null,null,{"$f":"'Import Players'!H66","v":0},{"$f":"'Import Players'!I66","v":0},{"$f":"'Import Players'!J66","v":0},{"$f":"'Import Players'!K66","v":0},{"$f":"'Import Players'!L66","v":0},{"$f":"'Import Players'!M66","v":0},{"$f":"'Import Players'!N66","v":0},{"$f":"'Import Players'!O66","v":0},{"$f":"'Import Players'!P66","v":0},{"$f":"'Import Players'!Q66","v":0},{"$f":"'Import Players'!R66","v":0},{"$f":"'Import Players'!S66","v":0},{"$f":"'Import Players'!T66","v":0},{"$f":"'Import Players'!U66","v":0},{"$f":"'Import Players'!V66","v":0},{"$f":"'Import Players'!W66","v":0}]
[{"$f":"'Import Players'!A67","v":0},{"$f":"'Import Players'!B67","v":0},{"$f":"'Import Players'!C67","v":0},{"$f":"'Import Players'!D67","v":0},{"$f":"'Import Players'!E67","v":0},{"$f":"'Import Players'!F67","v":0},{"$f":"'Import Players'!G67","v":0},null,null,null,{"$f":"'Import Players'!H67","v":0},{"$f":"'Import Players'!I67","v":0},{"$f":"'Import Players'!J67","v":0},{"$f":"'Import Players'!K67","v":0},{"$f":"'Import Players'!L67","v":0},{"$f":"'Import Players'!M67","v":0},{"$f":"'Import Players'!N67","v":0},{"$f":"'Import Players'!O67","v":0},{"$f":"'Import Players'!P67","v":0},{"$f":"'Import Players'!Q67","v":0},{"$f":"'Import Players'!R67","v":0},{"$f":"'Import Players'!S67","v":0},{"$f":"'Import Players'!T67","v":0},{"$f":"'Import Players'!U67","v":0},{"$f":"'Import Players'!V67","v":0},{"$f":"'Import Players'!W67","v":0}]
[{"$f":"'Import Players'!A68","v":0},{"$f":"'Import Players'!B68","v":0},{"$f":"'Import Players'!C68","v":0},{"$f":"'Import Players'!D68","v":0},{"$f":"'Import Players'!E68","v":0},{"$f":"'Import Players'!F68","v":0},{"$f":"'Import Players'!G68","v":0},null,null,null,{"$f":"'Import Players'!H68","v":0},{"$f":"'Import Players'!I68","v":0},{"$f":"'Import Players'!J68","v":0},{"$f":"'Import Players'!K68","v":0},{"$f":"'Import Players'!L68","v":0},{"$f":"'Import Players'!M68","v":0},{"$f":"'Import Players'!N68","v":0},{"$f":"'Import Players'!O68","v":0},{"$f":"'Import Players'!P68","v":0},{"$f":"'Import Players'!Q68","v":0},{"$f":"'Import Players'!R68","v":0},{"$f":"'Import Players'!S68","v":0},{"$f":"'Import Players'!T68","v":0},{"$f":"'Import Players'!U68","v":0},{"$f":"'Import Players'!V68","v":0},{"$f":"'Import Players'!W68","v":0}]
[{"$f":"'Import Players'!A69","v":0},{"$f":"'Import Players'!B69","v":0},{"$f":"'Import Players'!C69","v":0},{"$f":"'Import Players'!D69","v":0},{"$f":"'Import Players'!E69","v":0},{"$f":"'Import Players'!F69","v":0},{"$f":"'Import Players'!G69","v":0},null,null,null,{"$f":"'Import Players'!H69","v":0},{"$f":"'Import Players'!I69","v":0},{"$f":"'Import Players'!J69","v":0},{"$f":"'Import Players'!K69","v":0},{"$f":"'Import Players'!L69","v":0},{"$f":"'Import Players'!M69","v":0},{"$f":"'Import Players'!N69","v":0},{"$f":"'Import Players'!O69","v":0},{"$f":"'Import Players'!P69","v":0},{"$f":"'Import Players'!Q69","v":0},{"$f":"'Import Players'!R69","v":0},{"$f":"'Import Players'!S69","v":0},{"$f":"'Import Players'!T69","v":0},{"$f":"'Import Players'!U69","v":0},{"$f":"'Import Players'!V69","v":0},{"$f":"'Import Players'!W69","v":0}]
[{"$f":"'Import Players'!A70","v":0},{"$f":"'Import Players'!B70","v":0},{"$f":"'Import Players'!C70","v":0},{"$f":"'Import Players'!D70","v":0},{"$f":"'Import Players'!E70","v":0},{"$f":"'Import Players'!F70","v":0},{"$f":"'Import Players'!G70","v":0},null,null,null,{"$f":"'Import Players'!H70","v":0},{"$f":"'Import Players'!I70","v":0},{"$f":"'Import Players'!J70","v":0},{"$f":"'Import Players'!K70","v":0},{"$f":"'Import Players'!L70","v":0},{"$f":"'Import Players'!M70","v":0},{"$f":"'Import Players'!N70","v":0},{"$f":"'Import Players'!O70","v":0},{"$f":"'Import Players'!P70","v":0},{"$f":"'Import Players'!Q70","v":0},{"$f":"'Import Players'!R70","v":0},{"$f":"'Import Players'!S70","v":0},{"$f":"'Import Players'!T70","v":0},{"$f":"'Import Players'!U70","v":0},{"$f":"'Import Players'!V70","v":0},{"$f":"'Import Players'!W70","v":0}]
[{"$f":"'Import Players'!A71","v":0},{"$f":"'Import Players'!B71","v":0},{"$f":"'Import Players'!C71","v":0},{"$f":"'Import Players'!D71","v":0},{"$f":"'Import Players'!E71","v":0},{"$f":"'Import Players'!F71","v":0},{"$f":"'Import Players'!G71","v":0},null,null,null,{"$f":"'Import Players'!H71","v":0},{"$f":"'Import Players'!I71","v":0},{"$f":"'Import Players'!J71","v":0},{"$f":"'Import Players'!K71","v":0},{"$f":"'Import Players'!L71","v":0},{"$f":"'Import Players'!M71","v":0},{"$f":"'Import Players'!N71","v":0},{"$f":"'Import Players'!O71","v":0},{"$f":"'Import Players'!P71","v":0},{"$f":"'Import Players'!Q71","v":0},{"$f":"'Import Players'!R71","v":0},{"$f":"'Import Players'!S71","v":0},{"$f":"'Import Players'!T71","v":0},{"$f":"'Import Players'!U71","v":0},{"$f":"'Import Players'!V71","v":0},{"$f":"'Import Players'!W71","v":0}]
[{"$f":"'Import Players'!A72","v":0},{"$f":"'Import Players'!B72","v":0},{"$f":"'Import Players'!C72","v":0},{"$f":"'Import Players'!D72","v":0},{"$f":"'Import Players'!E72","v":0},{"$f":"'Import Players'!F72","v":0},{"$f":"'Import Players'!G72","v":0},null,null,null,{"$f":"'Import Players'!H72","v":0},{"$f":"'Import Players'!I72","v":0},{"$f":"'Import Players'!J72","v":0},{"$f":"'Import Players'!K72","v":0},{"$f":"'Import Players'!L72","v":0},{"$f":"'Import Players'!M72","v":0},{"$f":"'Import Players'!N72","v":0},{"$f":"'Import Players'!O72","v":0},{"$f":"'Import Players'!P72","v":0},{"$f":"'Import Players'!Q72","v":0},{"$f":"'Import Players'!R72","v":0},{"$f":"'Import Players'!S72","v":0},{"$f":"'Import Players'!T72","v":0},{"$f":"'Import Players'!U72","v":0},{"$f":"'Import Players'!V72","v":0},{"$f":"'Import Players'!W72","v":0}]
[{"$f":"'Import Players'!A73","v":0},{"$f":"'Import Players'!B73","v":0},{"$f":"'Import Players'!C73","v":0},{"$f":"'Import Players'!D73","v":0},{"$f":"'Import Players'!E73","v":0},{"$f":"'Import Players'!F73","v":0},{"$f":"'Import Players'!G73","v":0},null,null,null,{"$f":"'Import Players'!H73","v":0},{"$f":"'Import Players'!I73","v":0},{"$f":"'Import Players'!J73","v":0},{"$f":"'Import Players'!K73","v":0},{"$f":"'Import Players'!L73","v":0},{"$f":"'Import Players'!M73","v":0},{"$f":"'Import Players'!N73","v":0},{"$f":"'Import Players'!O73","v":0},{"$f":"'Import Players'!P73","v":0},{"$f":"'Import Players'!Q73","v":0},{"$f":"'Import Players'!R73","v":0},{"$f":"'Import Players'!S73","v":0},{"$f":"'Import Players'!T73","v":0},{"$f":"'Import Players'!U73","v":0},{"$f":"'Import Players'!V73","v":0},{"$f":"'Import Players'!W73","v":0}]
[{"$f":"'Import Players'!A74","v":0},{"$f":"'Import Players'!B74","v":0},{"$f":"'Import Players'!C74","v":0},{"$f":"'Import Players'!D74","v":0},{"$f":"'Import Players'!E74","v":0},{"$f":"'Import Players'!F74","v":0},{"$f":"'Import Players'!G74","v":0},null,null,null,{"$f":"'Import Players'!H74","v":0},{"$f":"'Import Players'!I74","v":0},{"$f":"'Import Players'!J74","v":0},{"$f":"'Import Players'!K74","v":0},{"$f":"'Import Players'!L74","v":0},{"$f":"'Import Players'!M74","v":0},{"$f":"'Import Players'!N74","v":0},{"$f":"'Import Players'!O74","v":0},{"$f":"'Import Players'!P74","v":0},{"$f":"'Import Players'!Q74","v":0},{"$f":"'Import Players'!R74","v":0},{"$f":"'Import Players'!S74","v":0},{"$f":"'Import Players'!T74","v":0},{"$f":"'Import Players'!U74","v":0},{"$f":"'Import Players'!V74","v":0},{"$f":"'Import Players'!W74","v":0}]
[{"$f":"'Import Players'!A75","v":0},{"$f":"'Import Players'!B75","v":0},{"$f":"'Import Players'!C75","v":0},{"$f":"'Import Players'!D75","v":0},{"$f":"'Import Players'!E75","v":0},{"$f":"'Import Players'!F75","v":0},{"$f":"'Import Players'!G75","v":0},null,null,null,{"$f":"'Import Players'!H75","v":0},{"$f":"'Import Players'!I75","v":0},{"$f":"'Import Players'!J75","v":0},{"$f":"'Import Players'!K75","v":0},{"$f":"'Import Players'!L75","v":0},{"$f":"'Import Players'!M75","v":0},{"$f":"'Import Players'!N75","v":0},{"$f":"'Import Players'!O75","v":0},{"$f":"'Import Players'!P75","v":0},{"$f":"'Import Players'!Q75","v":0},{"$f":"'Import Players'!R75","v":0},{"$f":"'Import Players'!S75","v":0},{"$f":"'Import Players'!T75","v":0},{"$f":"'Import Players'!U75","v":0},{"$f":"'Import Players'!V75","v":0},{"$f":"'Import Players'!W75","v":0}]
[{"$f":"'Import Players'!A76","v":0},{"$f":"'Import Players'!B76","v":0},{"$f":"'Import Players'!C76","v":0},{"$f":"'Import Players'!D76","v":0},{"$f":"'Import Players'!E76","v":0},{"$f":"'Import Players'!F76","v":0},{"$f":"'Import Players'!G76","v":0},null,null,null,{"$f":"'Import Players'!H76","v":0},{"$f":"'Import Players'!I76","v":0},{"$f":"'Import Players'!J76","v":0},{"$f":"'Import Players'!K76","v":0},{"$f":"'Import Players'!L76","v":0},{"$f":"'Import Players'!M76","v":0},{"$f":"'Import Players'!N76","v":0},{"$f":"'Import Players'!O76","v":0},{"$f":"'Import Players'!P76","v":0},{"$f":"'Import Players'!Q76","v":0},{"$f":"'Import Players'!R76","v":0},{"$f":"'Import Players'!S76","v":0},{"$f":"'Import Players'!T76","v":0},{"$f":"'Import Players'!U76","v":0},{"$f":"'Import Players'!V76","v":0},{"$f":"'Import Players'!W76","v":0}]
[{"$f":"'Import Players'!A77","v":0},{"$f":"'Import Players'!B77","v":0},{"$f":"'Import Players'!C77","v":0},{"$f":"'Import Players'!D77","v":0},{"$f":"'Import Players'!E77","v":0},{"$f":"'Import Players'!F77","v":0},{"$f":"'Import Players'!G77","v":0},null,null,null,{"$f":"'Import Players'!H77","v":0},{"$f":"'Import Players'!I77","v":0},{"$f":"'Import Players'!J77","v":0},{"$f":"'Import Players'!K77","v":0},{"$f":"'Import Players'!L77","v":0},{"$f":"'Import Players'!M77","v":0},{"$f":"'Import Players'!N77","v":0},{"$f":"'Import Players'!O77","v":0},{"$f":"'Import Players'!P77","v":0},{"$f":"'Import Players'!Q77","v":0},{"$f":"'Import Players'!R77","v":0},{"$f":"'Import Players'!S77","v":0},{"$f":"'Import Players'!T77","v":0},{"$f":"'Import Players'!U77","v":0},{"$f":"'Import Players'!V77","v":0},{"$f":"'Import Players'!W77","v":0}]
[{"$f":"'Import Players'!A78","v":0},{"$f":"'Import Players'!B78","v":0},{"$f":"'Import Players'!C78","v":0},{"$f":"'Import Players'!D78","v":0},{"$f":"'Import Players'!E78","v":0},{"$f":"'Import Players'!F78","v":0},{"$f":"'Import Players'!G78","v":0},null,null,null,{"$f":"'Import Players'!H78","v":0},{"$f":"'Import Players'!I78","v":0},{"$f":"'Import Players'!J78","v":0},{"$f":"'Import Players'!K78","v":0},{"$f":"'Import Players'!L78","v":0},{"$f":"'Import Players'!M78","v":0},{"$f":"'Import Players'!N78","v":0},{"$f":"'Import Players'!O78","v":0},{"$f":"'Import Players'!P78","v":0},{"$f":"'Import Players'!Q78","v":0},{"$f":"'Import Players'!R78","v":0},{"$f":"'Import Players'!S78","v":0},{"$f":"'Import Players'!T78","v":0},{"$f":"'Import Players'!U78","v":0},{"$f":"'Import Players'!V78","v":0},{"$f":"'Import Players'!W78","v":0}]
[{"$f":"'Import Players'!A79","v":0},{"$f":"'Import Players'!B79","v":0},{"$f":"'Import Players'!C79","v":0},{"$f":"'Import Players'!D79","v":0},{"$f":"'Import Players'!E79","v":0},{"$f":"'Import Players'!F79","v":0},{"$f":"'Import Players'!G79","v":0},null,null,null,{"$f":"'Import Players'!H79","v":0},{"$f":"'Import Players'!I79","v":0},{"$f":"'Import Players'!J79","v":0},{"$f":"'Import Players'!K79","v":0},{"$f":"'Import Players'!L79","v":0},{"$f":"'Import Players'!M79","v":0},{"$f":"'Import Players'!N79","v":0},{"$f":"'Import Players'!O79","v":0},{"$f":"'Import Players'!P79","v":0},{"$f":"'Import Players'!Q79","v":0},{"$f":"'Import Players'!R79","v":0},{"$f":"'Import Players'!S79","v":0},{"$f":"'Import Players'!T79","v":0},{"$f":"'Import Players'!U79","v":0},{"$f":"'Import Players'!V79","v":0},{"$f":"'Import Players'!W79","v":0}]
[{"$f":"'Import Players'!A80","v":0},{"$f":"'Import Players'!B80","v":0},{"$f":"'Import Players'!C80","v":0},{"$f":"'Import Players'!D80","v":0},{"$f":"'Import Players'!E80","v":0},{"$f":"'Import Players'!F80","v":0},{"$f":"'Import Players'!G80","v":0},null,null,null,{"$f":"'Import Players'!H80","v":0},{"$f":"'Import Players'!I80","v":0},{"$f":"'Import Players'!J80","v":0},{"$f":"'Import Players'!K80","v":0},{"$f":"'Import Players'!L80","v":0},{"$f":"'Import Players'!M80","v":0},{"$f":"'Import Players'!N80","v":0},{"$f":"'Import Players'!O80","v":0},{"$f":"'Import Players'!P80","v":0},{"$f":"'Import Players'!Q80","v":0},{"$f":"'Import Players'!R80","v":0},{"$f":"'Import Players'!S80","v":0},{"$f":"'Import Players'!T80","v":0},{"$f":"'Import Players'!U80","v":0},{"$f":"'Import Players'!V80","v":0},{"$f":"'Import Players'!W80","v":0}]
[{"$f":"'Import Players'!A81","v":0},{"$f":"'Import Players'!B81","v":0},{"$f":"'Import Players'!C81","v":0},{"$f":"'Import Players'!D81","v":0},{"$f":"'Import Players'!E81","v":0},{"$f":"'Import Players'!F81","v":0},{"$f":"'Import Players'!G81","v":0},null,null,null,{"$f":"'Import Players'!H81","v":0},{"$f":"'Import Players'!I81","v":0},{"$f":"'Import Players'!J81","v":0},{"$f":"'Import Players'!K81","v":0},{"$f":"'Import Players'!L81","v":0},{"$f":"'Import Players'!M81","v":0},{"$f":"'Import Players'!N81","v":0},{"$f":"'Import Players'!O81","v":0},{"$f":"'Import Players'!P81","v":0},{"$f":"'Import Players'!Q81","v":0},{"$f":"'Import Players'!R81","v":0},{"$f":"'Import Players'!S81","v":0},{"$f":"'Import Players'!T81","v":0},{"$f":"'Import Players'!U81","v":0},{"$f":"'Import Players'!V81","v":0},{"$f":"'Import Players'!W81","v":0}]
[{"$f":"'Import Players'!A82","v":0},{"$f":"'Import Players'!B82","v":0},{"$f":"'Import Players'!C82","v":0},{"$f":"'Import Players'!D82","v":0},{"$f":"'Import Players'!E82","v":0},{"$f":"'Import Players'!F82","v":0},{"$f":"'Import Players'!G82","v":0},null,null,null,{"$f":"'Import Players'!H82","v":0},{"$f":"'Import Players'!I82","v":0},{"$f":"'Import Players'!J82","v":0},{"$f":"'Import Players'!K82","v":0},{"$f":"'Import Players'!L82","v":0},{"$f":"'Import Players'!M82","v":0},{"$f":"'Import Players'!N82","v":0},{"$f":"'Import Players'!O82","v":0},{"$f":"'Import Players'!P82","v":0},{"$f":"'Import Players'!Q82","v":0},{"$f":"'Import Players'!R82","v":0},{"$f":"'Import Players'!S82","v":0},{"$f":"'Import Players'!T82","v":0},{"$f":"'Import Players'!U82","v":0},{"$f":"'Import Players'!V82","v":0},{"$f":"'Import Players'!W82","v":0}]
[{"$f":"'Import Players'!A83","v":0},{"$f":"'Import Players'!B83","v":0},{"$f":"'Import Players'!C83","v":0},{"$f":"'Import Players'!D83","v":0},{"$f":"'Import Players'!E83","v":0},{"$f":"'Import Players'!F83","v":0},{"$f":"'Import Players'!G83","v":0},null,null,null,{"$f":"'Import Players'!H83","v":0},{"$f":"'Import Players'!I83","v":0},{"$f":"'Import Players'!J83","v":0},{"$f":"'Import Players'!K83","v":0},{"$f":"'Import Players'!L83","v":0},{"$f":"'Import Players'!M83","v":0},{"$f":"'Import Players'!N83","v":0},{"$f":"'Import Players'!O83","v":0},{"$f":"'Import Players'!P83","v":0},{"$f":"'Import Players'!Q83","v":0},{"$f":"'Import Players'!R83","v":0},{"$f":"'Import Players'!S83","v":0},{"$f":"'Import Players'!T83","v":0},{"$f":"'Import Players'!U83","v":0},{"$f":"'Import Players'!V83","v":0},{"$f":"'Import Players'!W83","v":0}]
[{"$f":"'Import Players'!A84","v":0},{"$f":"'Import Players'!B84","v":0},{"$f":"'Import Players'!C84","v":0},{"$f":"'Import Players'!D84","v":0},{"$f":"'Import Players'!E84","v":0},{"$f":"'Import Players'!F84","v":0},{"$f":"'Import Players'!G84","v":0},null,null,null,{"$f":"'Import Players'!H84","v":0},{"$f":"'Import Players'!I84","v":0},{"$f":"'Import Players'!J84","v":0},{"$f":"'Import Players'!K84","v":0},{"$f":"'Import Players'!L84","v":0},{"$f":"'Import Players'!M84","v":0},{"$f":"'Import Players'!N84","v":0},{"$f":"'Import Players'!O84","v":0},{"$f":"'Import Players'!P84","v":0},{"$f":"'Import Players'!Q84","v":0},{"$f":"'Import Players'!R84","v":0},{"$f":"'Import Players'!S84","v":0},{"$f":"'Import Players'!T84","v":0},{"$f":"'Import Players'!U84","v":0},{"$f":"'Import Players'!V84","v":0},{"$f":"'Import Players'!W84","v":0}]
[{"$f":"'Import Players'!A85","v":0},{"$f":"'Import Players'!B85","v":0},{"$f":"'Import Players'!C85","v":0},{"$f":"'Import Players'!D85","v":0},{"$f":"'Import Players'!E85","v":0},{"$f":"'Import Players'!F85","v":0},{"$f":"'Import Players'!G85","v":0},null,null,null,{"$f":"'Import Players'!H85","v":0},{"$f":"'Import Players'!I85","v":0},{"$f":"'Import Players'!J85","v":0},{"$f":"'Import Players'!K85","v":0},{"$f":"'Import Players'!L85","v":0},{"$f":"'Import Players'!M85","v":0},{"$f":"'Import Players'!N85","v":0},{"$f":"'Import Players'!O85","v":0},{"$f":"'Import Players'!P85","v":0},{"$f":"'Import Players'!Q85","v":0},{"$f":"'Import Players'!R85","v":0},{"$f":"'Import Players'!S85","v":0},{"$f":"'Import Players'!T85","v":0},{"$f":"'Import Players'!U85","v":0},{"$f":"'Import Players'!V85","v":0},{"$f":"'Import Players'!W85","v":0}]
[{"$f":"'Import Players'!A86","v":0},{"$f":"'Import Players'!B86","v":0},{"$f":"'Import Players'!C86","v":0},{"$f":"'Import Players'!D86","v":0},{"$f":"'Import Players'!E86","v":0},{"$f":"'Import Players'!F86","v":0},{"$f":"'Import Players'!G86","v":0},null,null,null,{"$f":"'Import Players'!H86","v":0},{"$f":"'Import Players'!I86","v":0},{"$f":"'Import Players'!J86","v":0},{"$f":"'Import Players'!K86","v":0},{"$f":"'Import Players'!L86","v":0},{"$f":"'Import Players'!M86","v":0},{"$f":"'Import Players'!N86","v":0},{"$f":"'Import Players'!O86","v":0},{"$f":"'Import Players'!P86","v":0},{"$f":"'Import Players'!Q86","v":0},{"$f":"'Import Players'!R86","v":0},{"$f":"'Import Players'!S86","v":0},{"$f":"'Import Players'!T86","v":0},{"$f":"'Import Players'!U86","v":0},{"$f":"'Import Players'!V86","v":0},{"$f":"'Import Players'!W86","v":0}]
[{"$f":"'Import Players'!A87","v":0},{"$f":"'Import Players'!B87","v":0},{"$f":"'Import Players'!C87","v":0},{"$f":"'Import Players'!D87","v":0},{"$f":"'Import Players'!E87","v":0},{"$f":"'Import Players'!F87","v":0},{"$f":"'Import Players'!G87","v":0},null,null,null,{"$f":"'Import Players'!H87","v":0},{"$f":"'Import Players'!I87","v":0},{"$f":"'Import Players'!J87","v":0},{"$f":"'Import Players'!K87","v":0},{"$f":"'Import Players'!L87","v":0},{"$f":"'Import Players'!M87","v":0},{"$f":"'Import Players'!N87","v":0},{"$f":"'Import Players'!O87","v":0},{"$f":"'Import Players'!P87","v":0},{"$f":"'Import Players'!Q87","v":0},{"$f":"'Import Players'!R87","v":0},{"$f":"'Import Players'!S87","v":0},{"$f":"'Import Players'!T87","v":0},{"$f":"'Import Players'!U87","v":0},{"$f":"'Import Players'!V87","v":0},{"$f":"'Import Players'!W87","v":0}]
[{"$f":"'Import Players'!A88","v":0},{"$f":"'Import Players'!B88","v":0},{"$f":"'Import Players'!C88","v":0},{"$f":"'Import Players'!D88","v":0},{"$f":"'Import Players'!E88","v":0},{"$f":"'Import Players'!F88","v":0},{"$f":"'Import Players'!G88","v":0},null,null,null,{"$f":"'Import Players'!H88","v":0},{"$f":"'Import Players'!I88","v":0},{"$f":"'Import Players'!J88","v":0},{"$f":"'Import Players'!K88","v":0},{"$f":"'Import Players'!L88","v":0},{"$f":"'Import Players'!M88","v":0},{"$f":"'Import Players'!N88","v":0},{"$f":"'Import Players'!O88","v":0},{"$f":"'Import Players'!P88","v":0},{"$f":"'Import Players'!Q88","v":0},{"$f":"'Import Players'!R88","v":0},{"$f":"'Import Players'!S88","v":0},{"$f":"'Import Players'!T88","v":0},{"$f":"'Import Players'!U88","v":0},{"$f":"'Import Players'!V88","v":0},{"$f":"'Import Players'!W88","v":0}]
[{"$f":"'Import Players'!A89","v":0},{"$f":"'Import Players'!B89","v":0},{"$f":"'Import Players'!C89","v":0},{"$f":"'Import Players'!D89","v":0},{"$f":"'Import Players'!E89","v":0},{"$f":"'Import Players'!F89","v":0},{"$f":"'Import Players'!G89","v":0},null,null,null,{"$f":"'Import Players'!H89","v":0},{"$f":"'Import Players'!I89","v":0},{"$f":"'Import Players'!J89","v":0},{"$f":"'Import Players'!K89","v":0},{"$f":"'Import Players'!L89","v":0},{"$f":"'Import Players'!M89","v":0},{"$f":"'Import Players'!N89","v":0},{"$f":"'Import Players'!O89","v":0},{"$f":"'Import Players'!P89","v":0},{"$f":"'Import Players'!Q89","v":0},{"$f":"'Import Players'!R89","v":0},{"$f":"'Import Players'!S89","v":0},{"$f":"'Import Players'!T89","v":0},{"$f":"'Import Players'!U89","v":0},{"$f":"'Import Players'!V89","v":0},{"$f":"'Import Players'!W89","v":0}]
[{"$f":"'Import Players'!A90","v":0},{"$f":"'Import Players'!B90","v":0},{"$f":"'Import Players'!C90","v":0},{"$f":"'Import Players'!D90","v":0},{"$f":"'Import Players'!E90","v":0},{"$f":"'Import Players'!F90","v":0},{"$f":"'Import Players'!G90","v":0},null,null,null,{"$f":"'Import Players'!H90","v":0},{"$f":"'Import Players'!I90","v":0},{"$f":"'Import Players'!J90","v":0},{"$f":"'Import Players'!K90","v":0},{"$f":"'Import Players'!L90","v":0},{"$f":"'Import Players'!M90","v":0},{"$f":"'Import Players'!N90","v":0},{"$f":"'Import Players'!O90","v":0},{"$f":"'Import Players'!P90","v":0},{"$f":"'Import Players'!Q90","v":0},{"$f":"'Import Players'!R90","v":0},{"$f":"'Import Players'!S90","v":0},{"$f":"'Import Players'!T90","v":0},{"$f":"'Import Players'!U90","v":0},{"$f":"'Import Players'!V90","v":0},{"$f":"'Import Players'!W90","v":0}]
[{"$f":"'Import Players'!A91","v":0},{"$f":"'Import Players'!B91","v":0},{"$f":"'Import Players'!C91","v":0},{"$f":"'Import Players'!D91","v":0},{"$f":"'Import Players'!E91","v":0},{"$f":"'Import Players'!F91","v":0},{"$f":"'Import Players'!G91","v":0},null,null,null,{"$f":"'Import Players'!H91","v":0},{"$f":"'Import Players'!I91","v":0},{"$f":"'Import Players'!J91","v":0},{"$f":"'Import Players'!K91","v":0},{"$f":"'Import Players'!L91","v":0},{"$f":"'Import Players'!M91","v":0},{"$f":"'Import Players'!N91","v":0},{"$f":"'Import Players'!O91","v":0},{"$f":"'Import Players'!P91","v":0},{"$f":"'Import Players'!Q91","v":0},{"$f":"'Import Players'!R91","v":0},{"$f":"'Import Players'!S91","v":0},{"$f":"'Import Players'!T91","v":0},{"$f":"'Import Players'!U91","v":0},{"$f":"'Import Players'!V91","v":0},{"$f":"'Import Players'!W91","v":0}]
[{"$f":"'Import Players'!A92","v":0},{"$f":"'Import Players'!B92","v":0},{"$f":"'Import Players'!C92","v":0},{"$f":"'Import Players'!D92","v":0},{"$f":"'Import Players'!E92","v":0},{"$f":"'Import Players'!F92","v":0},{"$f":"'Import Players'!G92","v":0},null,null,null,{"$f":"'Import Players'!H92","v":0},{"$f":"'Import Players'!I92","v":0},{"$f":"'Import Players'!J92","v":0},{"$f":"'Import Players'!K92","v":0},{"$f":"'Import Players'!L92","v":0},{"$f":"'Import Players'!M92","v":0},{"$f":"'Import Players'!N92","v":0},{"$f":"'Import Players'!O92","v":0},{"$f":"'Import Players'!P92","v":0},{"$f":"'Import Players'!Q92","v":0},{"$f":"'Import Players'!R92","v":0},{"$f":"'Import Players'!S92","v":0},{"$f":"'Import Players'!T92","v":0},{"$f":"'Import Players'!U92","v":0},{"$f":"'Import Players'!V92","v":0},{"$f":"'Import Players'!W92","v":0}]
[{"$f":"'Import Players'!A93","v":0},{"$f":"'Import Players'!B93","v":0},{"$f":"'Import Players'!C93","v":0},{"$f":"'Import Players'!D93","v":0},{"$f":"'Import Players'!E93","v":0},{"$f":"'Import Players'!F93","v":0},{"$f":"'Import Players'!G93","v":0},null,null,null,{"$f":"'Import Players'!H93","v":0},{"$f":"'Import Players'!I93","v":0},{"$f":"'Import Players'!J93","v":0},{"$f":"'Import Players'!K93","v":0},{"$f":"'Import Players'!L93","v":0},{"$f":"'Import Players'!M93","v":0},{"$f":"'Import Players'!N93","v":0},{"$f":"'Import Players'!O93","v":0},{"$f":"'Import Players'!P93","v":0},{"$f":"'Import Players'!Q93","v":0},{"$f":"'Import Players'!R93","v":0},{"$f":"'Import Players'!S93","v":0},{"$f":"'Import Players'!T93","v":0},{"$f":"'Import Players'!U93","v":0},{"$f":"'Import Players'!V93","v":0},{"$f":"'Import Players'!W93","v":0}]
[{"$f":"'Import Players'!A94","v":0},{"$f":"'Import Players'!B94","v":0},{"$f":"'Import Players'!C94","v":0},{"$f":"'Import Players'!D94","v":0},{"$f":"'Import Players'!E94","v":0},{"$f":"'Import Players'!F94","v":0},{"$f":"'Import Players'!G94","v":0},null,null,null,{"$f":"'Import Players'!H94","v":0},{"$f":"'Import Players'!I94","v":0},{"$f":"'Import Players'!J94","v":0},{"$f":"'Import Players'!K94","v":0},{"$f":"'Import Players'!L94","v":0},{"$f":"'Import Players'!M94","v":0},{"$f":"'Import Players'!N94","v":0},{"$f":"'Import Players'!O94","v":0},{"$f":"'Import Players'!P94","v":0},{"$f":"'Import Players'!Q94","v":0},{"$f":"'Import Players'!R94","v":0},{"$f":"'Import Players'!S94","v":0},{"$f":"'Import Players'!T94","v":0},{"$f":"'Import Players'!U94","v":0},{"$f":"'Import Players'!V94","v":0},{"$f":"'Import Players'!W94","v":0}]
[{"$f":"'Import Players'!A95","v":0},{"$f":"'Import Players'!B95","v":0},{"$f":"'Import Players'!C95","v":0},{"$f":"'Import Players'!D95","v":0},{"$f":"'Import Players'!E95","v":0},{"$f":"'Import Players'!F95","v":0},{"$f":"'Import Players'!G95","v":0},null,null,null,{"$f":"'Import Players'!H95","v":0},{"$f":"'Import Players'!I95","v":0},{"$f":"'Import Players'!J95","v":0},{"$f":"'Import Players'!K95","v":0},{"$f":"'Import Players'!L95","v":0},{"$f":"'Import Players'!M95","v":0},{"$f":"'Import Players'!N95","v":0},{"$f":"'Import Players'!O95","v":0},{"$f":"'Import Players'!P95","v":0},{"$f":"'Import Players'!Q95","v":0},{"$f":"'Import Players'!R95","v":0},{"$f":"'Import Players'!S95","v":0},{"$f":"'Import Players'!T95","v":0},{"$f":"'Import Players'!U95","v":0},{"$f":"'Import Players'!V95","v":0},{"$f":"'Import Players'!W95","v":0}]
[{"$f":"'Import Players'!A96","v":0},{"$f":"'Import Players'!B96","v":0},{"$f":"'Import Players'!C96","v":0},{"$f":"'Import Players'!D96","v":0},{"$f":"'Import Players'!E96","v":0},{"$f":"'Import Players'!F96","v":0},{"$f":"'Import Players'!G96","v":0},null,null,null,{"$f":"'Import Players'!H96","v":0},{"$f":"'Import Players'!I96","v":0},{"$f":"'Import Players'!J96","v":0},{"$f":"'Import Players'!K96","v":0},{"$f":"'Import Players'!L96","v":0},{"$f":"'Import Players'!M96","v":0},{"$f":"'Import Players'!N96","v":0},{"$f":"'Import Players'!O96","v":0},{"$f":"'Import Players'!P96","v":0},{"$f":"'Import Players'!Q96","v":0},{"$f":"'Import Players'!R96","v":0},{"$f":"'Import Players'!S96","v":0},{"$f":"'Import Players'!T96","v":0},{"$f":"'Import Players'!U96","v":0},{"$f":"'Import Players'!V96","v":0},{"$f":"'Import Players'!W96","v":0}]
[{"$f":"'Import Players'!A97","v":0},{"$f":"'Import Players'!B97","v":0},{"$f":"'Import Players'!C97","v":0},{"$f":"'Import Players'!D97","v":0},{"$f":"'Import Players'!E97","v":0},{"$f":"'Import Players'!F97","v":0},{"$f":"'Import Players'!G97","v":0},null,null,null,{"$f":"'Import Players'!H97","v":0},{"$f":"'Import Players'!I97","v":0},{"$f":"'Import Players'!J97","v":0},{"$f":"'Import Players'!K97","v":0},{"$f":"'Import Players'!L97","v":0},{"$f":"'Import Players'!M97","v":0},{"$f":"'Import Players'!N97","v":0},{"$f":"'Import Players'!O97","v":0},{"$f":"'Import Players'!P97","v":0},{"$f":"'Import Players'!Q97","v":0},{"$f":"'Import Players'!R97","v":0},{"$f":"'Import Players'!S97","v":0},{"$f":"'Import Players'!T97","v":0},{"$f":"'Import Players'!U97","v":0},{"$f":"'Import Players'!V97","v":0},{"$f":"'Import Players'!W97","v":0}]
[{"$f":"'Import Players'!A98","v":0},{"$f":"'Import Players'!B98","v":0},{"$f":"'Import Players'!C98","v":0},{"$f":"'Import Players'!D98","v":0},{"$f":"'Import Players'!E98","v":0},{"$f":"'Import Players'!F98","v":0},{"$f":"'Import Players'!G98","v":0},null,null,null,{"$f":"'Import Players'!H98","v":0},{"$f":"'Import Players'!I98","v":0},{"$f":"'Import Players'!J98","v":0},{"$f":"'Import Players'!K98","v":0},{"$f":"'Import Players'!L98","v":0},{"$f":"'Import Players'!M98","v":0},{"$f":"'Import Players'!N98","v":0},{"$f":"'Import Players'!O98","v":0},{"$f":"'Import Players'!P98","v":0},{"$f":"'Import Players'!Q98","v":0},{"$f":"'Import Players'!R98","v":0},{"$f":"'Import Players'!S98","v":0},{"$f":"'Import Players'!T98","v":0},{"$f":"'Import Players'!U98","v":0},{"$f":"'Import Players'!V98","v":0},{"$f":"'Import Players'!W98","v":0}]
[{"$f":"'Import Players'!A99","v":0},{"$f":"'Import Players'!B99","v":0},{"$f":"'Import Players'!C99","v":0},{"$f":"'Import Players'!D99","v":0},{"$f":"'Import Players'!E99","v":0},{"$f":"'Import Players'!F99","v":0},{"$f":"'Import Players'!G99","v":0},null,null,null,{"$f":"'Import Players'!H99","v":0},{"$f":"'Import Players'!I99","v":0},{"$f":"'Import Players'!J99","v":0},{"$f":"'Import Players'!K99","v":0},{"$f":"'Import Players'!L99","v":0},{"$f":"'Import Players'!M99","v":0},{"$f":"'Import Players'!N99","v":0},{"$f":"'Import Players'!O99","v":0},{"$f":"'Import Players'!P99","v":0},{"$f":"'Import Players'!Q99","v":0},{"$f":"'Import Players'!R99","v":0},{"$f":"'Import Players'!S99","v":0},{"$f":"'Import Players'!T99","v":0},{"$f":"'Import Players'!U99","v":0},{"$f":"'Import Players'!V99","v":0},{"$f":"'Import Players'!W99","v":0}]
[{"$f":"'Import Players'!A100","v":0},{"$f":"'Import Players'!B100","v":0},{"$f":"'Import Players'!C100","v":0},{"$f":"'Import Players'!D100","v":0},{"$f":"'Import Players'!E100","v":0},{"$f":"'Import Players'!F100","v":0},{"$f":"'Import Players'!G100","v":0},null,null,null,{"$f":"'Import Players'!H100","v":0},{"$f":"'Import Players'!I100","v":0},{"$f":"'Import Players'!J100","v":0},{"$f":"'Import Players'!K100","v":0},{"$f":"'Import Players'!L100","v":0},{"$f":"'Import Players'!M100","v":0},{"$f":"'Import Players'!N100","v":0},{"$f":"'Import Players'!O100","v":0},{"$f":"'Import Players'!P100","v":0},{"$f":"'Import Players'!Q100","v":0},{"$f":"'Import Players'!R100","v":0},{"$f":"'Import Players'!S100","v":0},{"$f":"'Import Players'!T100","v":0},{"$f":"'Import Players'!U100","v":0},{"$f":"'Import Players'!V100","v":0},{"$f":"'Import Players'!W100","v":0}]
[{"$f":"'Import Players'!A101","v":0},{"$f":"'Import Players'!B101","v":0},{"$f":"'Import Players'!C101","v":0},{"$f":"'Import Players'!D101","v":0},{"$f":"'Import Players'!E101","v":0},{"$f":"'Import Players'!F101","v":0},{"$f":"'Import Players'!G101","v":0},null,null,null,{"$f":"'Import Players'!H101","v":0},{"$f":"'Import Players'!I101","v":0},{"$f":"'Import Players'!J101","v":0},{"$f":"'Import Players'!K101","v":0},{"$f":"'Import Players'!L101","v":0},{"$f":"'Import Players'!M101","v":0},{"$f":"'Import Players'!N101","v":0},{"$f":"'Import Players'!O101","v":0},{"$f":"'Import Players'!P101","v":0},{"$f":"'Import Players'!Q101","v":0},{"$f":"'Import Players'!R101","v":0},{"$f":"'Import Players'!S101","v":0},{"$f":"'Import Players'!T101","v":0},{"$f":"'Import Players'!U101","v":0},{"$f":"'Import Players'!V101","v":0},{"$f":"'Import Players'!W101","v":0}]
[{"$f":"'Import Players'!A102","v":0},{"$f":"'Import Players'!B102","v":0},{"$f":"'Import Players'!C102","v":0},{"$f":"'Import Players'!D102","v":0},{"$f":"'Import Players'!E102","v":0},{"$f":"'Import Players'!F102","v":0},{"$f":"'Import Players'!G102","v":0},null,null,null,{"$f":"'Import Players'!H102","v":0},{"$f":"'Import Players'!I102","v":0},{"$f":"'Import Players'!J102","v":0},{"$f":"'Import Players'!K102","v":0},{"$f":"'Import Players'!L102","v":0},{"$f":"'Import Players'!M102","v":0},{"$f":"'Import Players'!N102","v":0},{"$f":"'Import Players'!O102","v":0},{"$f":"'Import Players'!P102","v":0},{"$f":"'Import Players'!Q102","v":0},{"$f":"'Import Players'!R102","v":0},{"$f":"'Import Players'!S102","v":0},{"$f":"'Import Players'!T102","v":0},{"$f":"'Import Players'!U102","v":0},{"$f":"'Import Players'!V102","v":0},{"$f":"'Import Players'!W102","v":0}]
[{"$f":"'Import Players'!A103","v":0},{"$f":"'Import Players'!B103","v":0},{"$f":"'Import Players'!C103","v":0},{"$f":"'Import Players'!D103","v":0},{"$f":"'Import Players'!E103","v":0},{"$f":"'Import Players'!F103","v":0},{"$f":"'Import Players'!G103","v":0},null,null,null,{"$f":"'Import Players'!H103","v":0},{"$f":"'Import Players'!I103","v":0},{"$f":"'Import Players'!J103","v":0},{"$f":"'Import Players'!K103","v":0},{"$f":"'Import Players'!L103","v":0},{"$f":"'Import Players'!M103","v":0},{"$f":"'Import Players'!N103","v":0},{"$f":"'Import Players'!O103","v":0},{"$f":"'Import Players'!P103","v":0},{"$f":"'Import Players'!Q103","v":0},{"$f":"'Import Players'!R103","v":0},{"$f":"'Import Players'!S103","v":0},{"$f":"'Import Players'!T103","v":0},{"$f":"'Import Players'!U103","v":0},{"$f":"'Import Players'!V103","v":0},{"$f":"'Import Players'!W103","v":0}]
[{"$f":"'Import Players'!A104","v":0},{"$f":"'Import Players'!B104","v":0},{"$f":"'Import Players'!C104","v":0},{"$f":"'Import Players'!D104","v":0},{"$f":"'Import Players'!E104","v":0},{"$f":"'Import Players'!F104","v":0},{"$f":"'Import Players'!G104","v":0},null,null,null,{"$f":"'Import Players'!H104","v":0},{"$f":"'Import Players'!I104","v":0},{"$f":"'Import Players'!J104","v":0},{"$f":"'Import Players'!K104","v":0},{"$f":"'Import Players'!L104","v":0},{"$f":"'Import Players'!M104","v":0},{"$f":"'Import Players'!N104","v":0},{"$f":"'Import Players'!O104","v":0},{"$f":"'Import Players'!P104","v":0},{"$f":"'Import Players'!Q104","v":0},{"$f":"'Import Players'!R104","v":0},{"$f":"'Import Players'!S104","v":0},{"$f":"'Import Players'!T104","v":0},{"$f":"'Import Players'!U104","v":0},{"$f":"'Import Players'!V104","v":0},{"$f":"'Import Players'!W104","v":0}]
[{"$f":"'Import Players'!A105","v":0},{"$f":"'Import Players'!B105","v":0},{"$f":"'Import Players'!C105","v":0},{"$f":"'Import Players'!D105","v":0},{"$f":"'Import Players'!E105","v":0},{"$f":"'Import Players'!F105","v":0},{"$f":"'Import Players'!G105","v":0},null,null,null,{"$f":"'Import Players'!H105","v":0},{"$f":"'Import Players'!I105","v":0},{"$f":"'Import Players'!J105","v":0},{"$f":"'Import Players'!K105","v":0},{"$f":"'Import Players'!L105","v":0},{"$f":"'Import Players'!M105","v":0},{"$f":"'Import Players'!N105","v":0},{"$f":"'Import Players'!O105","v":0},{"$f":"'Import Players'!P105","v":0},{"$f":"'Import Players'!Q105","v":0},{"$f":"'Import Players'!R105","v":0},{"$f":"'Import Players'!S105","v":0},{"$f":"'Import Players'!T105","v":0},{"$f":"'Import Players'!U105","v":0},{"$f":"'Import Players'!V105","v":0},{"$f":"'Import Players'!W105","v":0}]

{"sheet":"Import Players","index":2,"n_rows":2,"n_cols":23,"rows_kept":2,"cut":false,"hidden":false,"merged":[[0,0,0,22]]}
["Do not edit this page"]
["Real Name","Playing Name","Password","EMail","Phone #","Referred By","Postal Address","Fees","Automatic","Season","Weekly","Survivor","Survivor II","Margin","High 5","Conference","Digit","Bracket","Low Position(s)","Parlay","Target"," Custom 3","Date Signed Up"]